BEGIN:VCALENDAR
VERSION:2.0
PRODID:-//Portage Faith United Methodist Church - ECPv6.15.15//NONSGML v1.0//EN
CALSCALE:GREGORIAN
METHOD:PUBLISH
X-ORIGINAL-URL:https://portagefaith.com
X-WR-CALDESC:Events for Portage Faith United Methodist Church
REFRESH-INTERVAL;VALUE=DURATION:PT1H
X-Robots-Tag:noindex
X-PUBLISHED-TTL:PT1H
BEGIN:VTIMEZONE
TZID:America/Detroit
BEGIN:DAYLIGHT
TZOFFSETFROM:-0500
TZOFFSETTO:-0400
TZNAME:EDT
DTSTART:20260308T070000
END:DAYLIGHT
BEGIN:STANDARD
TZOFFSETFROM:-0400
TZOFFSETTO:-0500
TZNAME:EST
DTSTART:20261101T060000
END:STANDARD
BEGIN:DAYLIGHT
TZOFFSETFROM:-0500
TZOFFSETTO:-0400
TZNAME:EDT
DTSTART:20270314T070000
END:DAYLIGHT
BEGIN:STANDARD
TZOFFSETFROM:-0400
TZOFFSETTO:-0500
TZNAME:EST
DTSTART:20271107T060000
END:STANDARD
BEGIN:DAYLIGHT
TZOFFSETFROM:-0500
TZOFFSETTO:-0400
TZNAME:EDT
DTSTART:20280312T070000
END:DAYLIGHT
BEGIN:STANDARD
TZOFFSETFROM:-0400
TZOFFSETTO:-0500
TZNAME:EST
DTSTART:20281105T060000
END:STANDARD
END:VTIMEZONE
BEGIN:VEVENT
DTSTART;VALUE=DATE:20270903
DTEND;VALUE=DATE:20270904
DTSTAMP:20260424T072929
CREATED:20231102T231125Z
LAST-MODIFIED:20231206T221455Z
UID:10000306-1819929600-1820015999@portagefaith.com
SUMMARY:Office Closed
DESCRIPTION:
URL:https://portagefaith.com/events/office-closed-16/2027-09-03/
LOCATION:Portage Faith United Methodist Church\, 9922 State Route 44\, Mantua\, OH\, 44255\, United States
CATEGORIES:Office Hours
ATTACH;FMTTYPE=image/jpeg:https://portagefaith.com/wp-content/uploads/2023/11/PF-drive-3.jpeg
ORGANIZER;CN="Portage Faith United Methodist Church":MAILTO:officeadmin@portagefaith.com
END:VEVENT
BEGIN:VEVENT
DTSTART;VALUE=DATE:20270906
DTEND;VALUE=DATE:20270907
DTSTAMP:20260424T072929
CREATED:20231102T231256Z
LAST-MODIFIED:20231206T222249Z
UID:10001854-1820188800-1820275199@portagefaith.com
SUMMARY:Office Closed
DESCRIPTION:
URL:https://portagefaith.com/events/office-closed-18/2027-09-06/
LOCATION:Portage Faith United Methodist Church\, 9922 State Route 44\, Mantua\, OH\, 44255\, United States
CATEGORIES:Office Hours
ATTACH;FMTTYPE=image/jpeg:https://portagefaith.com/wp-content/uploads/2023/11/PF-Outside-pink-flowers-1.jpeg
ORGANIZER;CN="Portage Faith United Methodist Church":MAILTO:officeadmin@portagefaith.com
END:VEVENT
BEGIN:VEVENT
DTSTART;TZID=America/Detroit:20270907T090000
DTEND;TZID=America/Detroit:20270907T110000
DTSTAMP:20260424T072929
CREATED:20231228T224707Z
LAST-MODIFIED:20231228T224709Z
UID:10001079-1820307600-1820314800@portagefaith.com
SUMMARY:Walk-In Office Hours
DESCRIPTION:Portage Faith Church Pastor Bill Graham holds Walk-In Office Hours on Tuesday and Thursday mornings from 9:00 – 11:00 am ET. \nPlease check the Announcements each week for any schedule conflict that may change Pastor Bill’s Walk-In Office Hours that week\, and please contact him in advance to make an appointment for other days/times.
URL:https://portagefaith.com/events/walk-in-office-hours-13-2/2027-09-07/
LOCATION:Portage Faith United Methodist Church\, 9922 State Route 44\, Mantua\, OH\, 44255\, United States
CATEGORIES:Office Hours
ATTACH;FMTTYPE=image/jpeg:https://portagefaith.com/wp-content/uploads/2023/10/PF-Bill-Office-Hrs-e1699542183796.jpg
ORGANIZER;CN="Pastor Bill Graham":MAILTO:Rev.Bill.Graham@gmail.com
END:VEVENT
BEGIN:VEVENT
DTSTART;TZID=America/Detroit:20270909T090000
DTEND;TZID=America/Detroit:20270909T110000
DTSTAMP:20260424T072929
CREATED:20231108T034122Z
LAST-MODIFIED:20231206T221550Z
UID:10000564-1820480400-1820487600@portagefaith.com
SUMMARY:Walk-In Office Hours
DESCRIPTION:Portage Faith Church Pastor Bill Graham holds Walk-In Office Hours on Tuesday and Thursday mornings from 9:00 – 11:00 am ET. \nPlease check the Announcements each week for any schedule conflict that may change Pastor Bill’s Walk-In Office Hours that week\, and please contact him in advance to make an appointment for other days/times.
URL:https://portagefaith.com/events/walk-in-office-hours-12/2027-09-09/
LOCATION:Portage Faith United Methodist Church\, 9922 State Route 44\, Mantua\, OH\, 44255\, United States
CATEGORIES:Office Hours
ATTACH;FMTTYPE=image/jpeg:https://portagefaith.com/wp-content/uploads/2023/10/PF-Bill-Office-Hrs-e1699542183796.jpg
ORGANIZER;CN="Pastor Bill Graham":MAILTO:Rev.Bill.Graham@gmail.com
END:VEVENT
BEGIN:VEVENT
DTSTART;VALUE=DATE:20270910
DTEND;VALUE=DATE:20270911
DTSTAMP:20260424T072929
CREATED:20231102T231125Z
LAST-MODIFIED:20231206T221455Z
UID:10000307-1820534400-1820620799@portagefaith.com
SUMMARY:Office Closed
DESCRIPTION:
URL:https://portagefaith.com/events/office-closed-16/2027-09-10/
LOCATION:Portage Faith United Methodist Church\, 9922 State Route 44\, Mantua\, OH\, 44255\, United States
CATEGORIES:Office Hours
ATTACH;FMTTYPE=image/jpeg:https://portagefaith.com/wp-content/uploads/2023/11/PF-drive-3.jpeg
ORGANIZER;CN="Portage Faith United Methodist Church":MAILTO:officeadmin@portagefaith.com
END:VEVENT
BEGIN:VEVENT
DTSTART;VALUE=DATE:20270913
DTEND;VALUE=DATE:20270914
DTSTAMP:20260424T072929
CREATED:20231102T231256Z
LAST-MODIFIED:20231206T222249Z
UID:10001855-1820793600-1820879999@portagefaith.com
SUMMARY:Office Closed
DESCRIPTION:
URL:https://portagefaith.com/events/office-closed-18/2027-09-13/
LOCATION:Portage Faith United Methodist Church\, 9922 State Route 44\, Mantua\, OH\, 44255\, United States
CATEGORIES:Office Hours
ATTACH;FMTTYPE=image/jpeg:https://portagefaith.com/wp-content/uploads/2023/11/PF-Outside-pink-flowers-1.jpeg
ORGANIZER;CN="Portage Faith United Methodist Church":MAILTO:officeadmin@portagefaith.com
END:VEVENT
BEGIN:VEVENT
DTSTART;TZID=America/Detroit:20270914T090000
DTEND;TZID=America/Detroit:20270914T110000
DTSTAMP:20260424T072929
CREATED:20231228T224707Z
LAST-MODIFIED:20231228T224709Z
UID:10001080-1820912400-1820919600@portagefaith.com
SUMMARY:Walk-In Office Hours
DESCRIPTION:Portage Faith Church Pastor Bill Graham holds Walk-In Office Hours on Tuesday and Thursday mornings from 9:00 – 11:00 am ET. \nPlease check the Announcements each week for any schedule conflict that may change Pastor Bill’s Walk-In Office Hours that week\, and please contact him in advance to make an appointment for other days/times.
URL:https://portagefaith.com/events/walk-in-office-hours-13-2/2027-09-14/
LOCATION:Portage Faith United Methodist Church\, 9922 State Route 44\, Mantua\, OH\, 44255\, United States
CATEGORIES:Office Hours
ATTACH;FMTTYPE=image/jpeg:https://portagefaith.com/wp-content/uploads/2023/10/PF-Bill-Office-Hrs-e1699542183796.jpg
ORGANIZER;CN="Pastor Bill Graham":MAILTO:Rev.Bill.Graham@gmail.com
END:VEVENT
BEGIN:VEVENT
DTSTART;TZID=America/Detroit:20270916T090000
DTEND;TZID=America/Detroit:20270916T110000
DTSTAMP:20260424T072929
CREATED:20231108T034122Z
LAST-MODIFIED:20231206T221550Z
UID:10000565-1821085200-1821092400@portagefaith.com
SUMMARY:Walk-In Office Hours
DESCRIPTION:Portage Faith Church Pastor Bill Graham holds Walk-In Office Hours on Tuesday and Thursday mornings from 9:00 – 11:00 am ET. \nPlease check the Announcements each week for any schedule conflict that may change Pastor Bill’s Walk-In Office Hours that week\, and please contact him in advance to make an appointment for other days/times.
URL:https://portagefaith.com/events/walk-in-office-hours-12/2027-09-16/
LOCATION:Portage Faith United Methodist Church\, 9922 State Route 44\, Mantua\, OH\, 44255\, United States
CATEGORIES:Office Hours
ATTACH;FMTTYPE=image/jpeg:https://portagefaith.com/wp-content/uploads/2023/10/PF-Bill-Office-Hrs-e1699542183796.jpg
ORGANIZER;CN="Pastor Bill Graham":MAILTO:Rev.Bill.Graham@gmail.com
END:VEVENT
BEGIN:VEVENT
DTSTART;VALUE=DATE:20270917
DTEND;VALUE=DATE:20270918
DTSTAMP:20260424T072929
CREATED:20231102T231125Z
LAST-MODIFIED:20231206T221455Z
UID:10000308-1821139200-1821225599@portagefaith.com
SUMMARY:Office Closed
DESCRIPTION:
URL:https://portagefaith.com/events/office-closed-16/2027-09-17/
LOCATION:Portage Faith United Methodist Church\, 9922 State Route 44\, Mantua\, OH\, 44255\, United States
CATEGORIES:Office Hours
ATTACH;FMTTYPE=image/jpeg:https://portagefaith.com/wp-content/uploads/2023/11/PF-drive-3.jpeg
ORGANIZER;CN="Portage Faith United Methodist Church":MAILTO:officeadmin@portagefaith.com
END:VEVENT
BEGIN:VEVENT
DTSTART;VALUE=DATE:20270920
DTEND;VALUE=DATE:20270921
DTSTAMP:20260424T072929
CREATED:20231102T231256Z
LAST-MODIFIED:20231206T222249Z
UID:10001856-1821398400-1821484799@portagefaith.com
SUMMARY:Office Closed
DESCRIPTION:
URL:https://portagefaith.com/events/office-closed-18/2027-09-20/
LOCATION:Portage Faith United Methodist Church\, 9922 State Route 44\, Mantua\, OH\, 44255\, United States
CATEGORIES:Office Hours
ATTACH;FMTTYPE=image/jpeg:https://portagefaith.com/wp-content/uploads/2023/11/PF-Outside-pink-flowers-1.jpeg
ORGANIZER;CN="Portage Faith United Methodist Church":MAILTO:officeadmin@portagefaith.com
END:VEVENT
BEGIN:VEVENT
DTSTART;TZID=America/Detroit:20270921T090000
DTEND;TZID=America/Detroit:20270921T110000
DTSTAMP:20260424T072929
CREATED:20231228T224707Z
LAST-MODIFIED:20231228T224709Z
UID:10001081-1821517200-1821524400@portagefaith.com
SUMMARY:Walk-In Office Hours
DESCRIPTION:Portage Faith Church Pastor Bill Graham holds Walk-In Office Hours on Tuesday and Thursday mornings from 9:00 – 11:00 am ET. \nPlease check the Announcements each week for any schedule conflict that may change Pastor Bill’s Walk-In Office Hours that week\, and please contact him in advance to make an appointment for other days/times.
URL:https://portagefaith.com/events/walk-in-office-hours-13-2/2027-09-21/
LOCATION:Portage Faith United Methodist Church\, 9922 State Route 44\, Mantua\, OH\, 44255\, United States
CATEGORIES:Office Hours
ATTACH;FMTTYPE=image/jpeg:https://portagefaith.com/wp-content/uploads/2023/10/PF-Bill-Office-Hrs-e1699542183796.jpg
ORGANIZER;CN="Pastor Bill Graham":MAILTO:Rev.Bill.Graham@gmail.com
END:VEVENT
BEGIN:VEVENT
DTSTART;TZID=America/Detroit:20270923T090000
DTEND;TZID=America/Detroit:20270923T110000
DTSTAMP:20260424T072929
CREATED:20231108T034122Z
LAST-MODIFIED:20231206T221550Z
UID:10000566-1821690000-1821697200@portagefaith.com
SUMMARY:Walk-In Office Hours
DESCRIPTION:Portage Faith Church Pastor Bill Graham holds Walk-In Office Hours on Tuesday and Thursday mornings from 9:00 – 11:00 am ET. \nPlease check the Announcements each week for any schedule conflict that may change Pastor Bill’s Walk-In Office Hours that week\, and please contact him in advance to make an appointment for other days/times.
URL:https://portagefaith.com/events/walk-in-office-hours-12/2027-09-23/
LOCATION:Portage Faith United Methodist Church\, 9922 State Route 44\, Mantua\, OH\, 44255\, United States
CATEGORIES:Office Hours
ATTACH;FMTTYPE=image/jpeg:https://portagefaith.com/wp-content/uploads/2023/10/PF-Bill-Office-Hrs-e1699542183796.jpg
ORGANIZER;CN="Pastor Bill Graham":MAILTO:Rev.Bill.Graham@gmail.com
END:VEVENT
BEGIN:VEVENT
DTSTART;VALUE=DATE:20270924
DTEND;VALUE=DATE:20270925
DTSTAMP:20260424T072929
CREATED:20231102T231125Z
LAST-MODIFIED:20231206T221455Z
UID:10000309-1821744000-1821830399@portagefaith.com
SUMMARY:Office Closed
DESCRIPTION:
URL:https://portagefaith.com/events/office-closed-16/2027-09-24/
LOCATION:Portage Faith United Methodist Church\, 9922 State Route 44\, Mantua\, OH\, 44255\, United States
CATEGORIES:Office Hours
ATTACH;FMTTYPE=image/jpeg:https://portagefaith.com/wp-content/uploads/2023/11/PF-drive-3.jpeg
ORGANIZER;CN="Portage Faith United Methodist Church":MAILTO:officeadmin@portagefaith.com
END:VEVENT
BEGIN:VEVENT
DTSTART;VALUE=DATE:20270927
DTEND;VALUE=DATE:20270928
DTSTAMP:20260424T072929
CREATED:20231102T231256Z
LAST-MODIFIED:20231206T222249Z
UID:10001857-1822003200-1822089599@portagefaith.com
SUMMARY:Office Closed
DESCRIPTION:
URL:https://portagefaith.com/events/office-closed-18/2027-09-27/
LOCATION:Portage Faith United Methodist Church\, 9922 State Route 44\, Mantua\, OH\, 44255\, United States
CATEGORIES:Office Hours
ATTACH;FMTTYPE=image/jpeg:https://portagefaith.com/wp-content/uploads/2023/11/PF-Outside-pink-flowers-1.jpeg
ORGANIZER;CN="Portage Faith United Methodist Church":MAILTO:officeadmin@portagefaith.com
END:VEVENT
BEGIN:VEVENT
DTSTART;TZID=America/Detroit:20270928T090000
DTEND;TZID=America/Detroit:20270928T110000
DTSTAMP:20260424T072929
CREATED:20231228T224707Z
LAST-MODIFIED:20231228T224709Z
UID:10001082-1822122000-1822129200@portagefaith.com
SUMMARY:Walk-In Office Hours
DESCRIPTION:Portage Faith Church Pastor Bill Graham holds Walk-In Office Hours on Tuesday and Thursday mornings from 9:00 – 11:00 am ET. \nPlease check the Announcements each week for any schedule conflict that may change Pastor Bill’s Walk-In Office Hours that week\, and please contact him in advance to make an appointment for other days/times.
URL:https://portagefaith.com/events/walk-in-office-hours-13-2/2027-09-28/
LOCATION:Portage Faith United Methodist Church\, 9922 State Route 44\, Mantua\, OH\, 44255\, United States
CATEGORIES:Office Hours
ATTACH;FMTTYPE=image/jpeg:https://portagefaith.com/wp-content/uploads/2023/10/PF-Bill-Office-Hrs-e1699542183796.jpg
ORGANIZER;CN="Pastor Bill Graham":MAILTO:Rev.Bill.Graham@gmail.com
END:VEVENT
BEGIN:VEVENT
DTSTART;TZID=America/Detroit:20270930T090000
DTEND;TZID=America/Detroit:20270930T110000
DTSTAMP:20260424T072929
CREATED:20231108T034122Z
LAST-MODIFIED:20231206T221550Z
UID:10000567-1822294800-1822302000@portagefaith.com
SUMMARY:Walk-In Office Hours
DESCRIPTION:Portage Faith Church Pastor Bill Graham holds Walk-In Office Hours on Tuesday and Thursday mornings from 9:00 – 11:00 am ET. \nPlease check the Announcements each week for any schedule conflict that may change Pastor Bill’s Walk-In Office Hours that week\, and please contact him in advance to make an appointment for other days/times.
URL:https://portagefaith.com/events/walk-in-office-hours-12/2027-09-30/
LOCATION:Portage Faith United Methodist Church\, 9922 State Route 44\, Mantua\, OH\, 44255\, United States
CATEGORIES:Office Hours
ATTACH;FMTTYPE=image/jpeg:https://portagefaith.com/wp-content/uploads/2023/10/PF-Bill-Office-Hrs-e1699542183796.jpg
ORGANIZER;CN="Pastor Bill Graham":MAILTO:Rev.Bill.Graham@gmail.com
END:VEVENT
BEGIN:VEVENT
DTSTART;VALUE=DATE:20271001
DTEND;VALUE=DATE:20271002
DTSTAMP:20260424T072929
CREATED:20231102T231125Z
LAST-MODIFIED:20231206T221455Z
UID:10000310-1822348800-1822435199@portagefaith.com
SUMMARY:Office Closed
DESCRIPTION:
URL:https://portagefaith.com/events/office-closed-16/2027-10-01/
LOCATION:Portage Faith United Methodist Church\, 9922 State Route 44\, Mantua\, OH\, 44255\, United States
CATEGORIES:Office Hours
ATTACH;FMTTYPE=image/jpeg:https://portagefaith.com/wp-content/uploads/2023/11/PF-drive-3.jpeg
ORGANIZER;CN="Portage Faith United Methodist Church":MAILTO:officeadmin@portagefaith.com
END:VEVENT
BEGIN:VEVENT
DTSTART;VALUE=DATE:20271004
DTEND;VALUE=DATE:20271005
DTSTAMP:20260424T072929
CREATED:20231102T231256Z
LAST-MODIFIED:20231206T222249Z
UID:10001858-1822608000-1822694399@portagefaith.com
SUMMARY:Office Closed
DESCRIPTION:
URL:https://portagefaith.com/events/office-closed-18/2027-10-04/
LOCATION:Portage Faith United Methodist Church\, 9922 State Route 44\, Mantua\, OH\, 44255\, United States
CATEGORIES:Office Hours
ATTACH;FMTTYPE=image/jpeg:https://portagefaith.com/wp-content/uploads/2023/11/PF-Outside-pink-flowers-1.jpeg
ORGANIZER;CN="Portage Faith United Methodist Church":MAILTO:officeadmin@portagefaith.com
END:VEVENT
BEGIN:VEVENT
DTSTART;TZID=America/Detroit:20271005T090000
DTEND;TZID=America/Detroit:20271005T110000
DTSTAMP:20260424T072929
CREATED:20231228T224707Z
LAST-MODIFIED:20231228T224709Z
UID:10001083-1822726800-1822734000@portagefaith.com
SUMMARY:Walk-In Office Hours
DESCRIPTION:Portage Faith Church Pastor Bill Graham holds Walk-In Office Hours on Tuesday and Thursday mornings from 9:00 – 11:00 am ET. \nPlease check the Announcements each week for any schedule conflict that may change Pastor Bill’s Walk-In Office Hours that week\, and please contact him in advance to make an appointment for other days/times.
URL:https://portagefaith.com/events/walk-in-office-hours-13-2/2027-10-05/
LOCATION:Portage Faith United Methodist Church\, 9922 State Route 44\, Mantua\, OH\, 44255\, United States
CATEGORIES:Office Hours
ATTACH;FMTTYPE=image/jpeg:https://portagefaith.com/wp-content/uploads/2023/10/PF-Bill-Office-Hrs-e1699542183796.jpg
ORGANIZER;CN="Pastor Bill Graham":MAILTO:Rev.Bill.Graham@gmail.com
END:VEVENT
BEGIN:VEVENT
DTSTART;TZID=America/Detroit:20271007T090000
DTEND;TZID=America/Detroit:20271007T110000
DTSTAMP:20260424T072929
CREATED:20231108T034122Z
LAST-MODIFIED:20231206T221550Z
UID:10000568-1822899600-1822906800@portagefaith.com
SUMMARY:Walk-In Office Hours
DESCRIPTION:Portage Faith Church Pastor Bill Graham holds Walk-In Office Hours on Tuesday and Thursday mornings from 9:00 – 11:00 am ET. \nPlease check the Announcements each week for any schedule conflict that may change Pastor Bill’s Walk-In Office Hours that week\, and please contact him in advance to make an appointment for other days/times.
URL:https://portagefaith.com/events/walk-in-office-hours-12/2027-10-07/
LOCATION:Portage Faith United Methodist Church\, 9922 State Route 44\, Mantua\, OH\, 44255\, United States
CATEGORIES:Office Hours
ATTACH;FMTTYPE=image/jpeg:https://portagefaith.com/wp-content/uploads/2023/10/PF-Bill-Office-Hrs-e1699542183796.jpg
ORGANIZER;CN="Pastor Bill Graham":MAILTO:Rev.Bill.Graham@gmail.com
END:VEVENT
BEGIN:VEVENT
DTSTART;VALUE=DATE:20271008
DTEND;VALUE=DATE:20271009
DTSTAMP:20260424T072929
CREATED:20231102T231125Z
LAST-MODIFIED:20231206T221455Z
UID:10000311-1822953600-1823039999@portagefaith.com
SUMMARY:Office Closed
DESCRIPTION:
URL:https://portagefaith.com/events/office-closed-16/2027-10-08/
LOCATION:Portage Faith United Methodist Church\, 9922 State Route 44\, Mantua\, OH\, 44255\, United States
CATEGORIES:Office Hours
ATTACH;FMTTYPE=image/jpeg:https://portagefaith.com/wp-content/uploads/2023/11/PF-drive-3.jpeg
ORGANIZER;CN="Portage Faith United Methodist Church":MAILTO:officeadmin@portagefaith.com
END:VEVENT
BEGIN:VEVENT
DTSTART;VALUE=DATE:20271011
DTEND;VALUE=DATE:20271012
DTSTAMP:20260424T072929
CREATED:20231102T231256Z
LAST-MODIFIED:20231206T222249Z
UID:10001859-1823212800-1823299199@portagefaith.com
SUMMARY:Office Closed
DESCRIPTION:
URL:https://portagefaith.com/events/office-closed-18/2027-10-11/
LOCATION:Portage Faith United Methodist Church\, 9922 State Route 44\, Mantua\, OH\, 44255\, United States
CATEGORIES:Office Hours
ATTACH;FMTTYPE=image/jpeg:https://portagefaith.com/wp-content/uploads/2023/11/PF-Outside-pink-flowers-1.jpeg
ORGANIZER;CN="Portage Faith United Methodist Church":MAILTO:officeadmin@portagefaith.com
END:VEVENT
BEGIN:VEVENT
DTSTART;TZID=America/Detroit:20271012T090000
DTEND;TZID=America/Detroit:20271012T110000
DTSTAMP:20260424T072929
CREATED:20231228T224707Z
LAST-MODIFIED:20231228T224709Z
UID:10001084-1823331600-1823338800@portagefaith.com
SUMMARY:Walk-In Office Hours
DESCRIPTION:Portage Faith Church Pastor Bill Graham holds Walk-In Office Hours on Tuesday and Thursday mornings from 9:00 – 11:00 am ET. \nPlease check the Announcements each week for any schedule conflict that may change Pastor Bill’s Walk-In Office Hours that week\, and please contact him in advance to make an appointment for other days/times.
URL:https://portagefaith.com/events/walk-in-office-hours-13-2/2027-10-12/
LOCATION:Portage Faith United Methodist Church\, 9922 State Route 44\, Mantua\, OH\, 44255\, United States
CATEGORIES:Office Hours
ATTACH;FMTTYPE=image/jpeg:https://portagefaith.com/wp-content/uploads/2023/10/PF-Bill-Office-Hrs-e1699542183796.jpg
ORGANIZER;CN="Pastor Bill Graham":MAILTO:Rev.Bill.Graham@gmail.com
END:VEVENT
BEGIN:VEVENT
DTSTART;TZID=America/Detroit:20271014T090000
DTEND;TZID=America/Detroit:20271014T110000
DTSTAMP:20260424T072929
CREATED:20231108T034122Z
LAST-MODIFIED:20231206T221550Z
UID:10000569-1823504400-1823511600@portagefaith.com
SUMMARY:Walk-In Office Hours
DESCRIPTION:Portage Faith Church Pastor Bill Graham holds Walk-In Office Hours on Tuesday and Thursday mornings from 9:00 – 11:00 am ET. \nPlease check the Announcements each week for any schedule conflict that may change Pastor Bill’s Walk-In Office Hours that week\, and please contact him in advance to make an appointment for other days/times.
URL:https://portagefaith.com/events/walk-in-office-hours-12/2027-10-14/
LOCATION:Portage Faith United Methodist Church\, 9922 State Route 44\, Mantua\, OH\, 44255\, United States
CATEGORIES:Office Hours
ATTACH;FMTTYPE=image/jpeg:https://portagefaith.com/wp-content/uploads/2023/10/PF-Bill-Office-Hrs-e1699542183796.jpg
ORGANIZER;CN="Pastor Bill Graham":MAILTO:Rev.Bill.Graham@gmail.com
END:VEVENT
BEGIN:VEVENT
DTSTART;VALUE=DATE:20271015
DTEND;VALUE=DATE:20271016
DTSTAMP:20260424T072930
CREATED:20231102T231125Z
LAST-MODIFIED:20231206T221455Z
UID:10000312-1823558400-1823644799@portagefaith.com
SUMMARY:Office Closed
DESCRIPTION:
URL:https://portagefaith.com/events/office-closed-16/2027-10-15/
LOCATION:Portage Faith United Methodist Church\, 9922 State Route 44\, Mantua\, OH\, 44255\, United States
CATEGORIES:Office Hours
ATTACH;FMTTYPE=image/jpeg:https://portagefaith.com/wp-content/uploads/2023/11/PF-drive-3.jpeg
ORGANIZER;CN="Portage Faith United Methodist Church":MAILTO:officeadmin@portagefaith.com
END:VEVENT
BEGIN:VEVENT
DTSTART;VALUE=DATE:20271018
DTEND;VALUE=DATE:20271019
DTSTAMP:20260424T072930
CREATED:20231102T231256Z
LAST-MODIFIED:20231206T222249Z
UID:10001860-1823817600-1823903999@portagefaith.com
SUMMARY:Office Closed
DESCRIPTION:
URL:https://portagefaith.com/events/office-closed-18/2027-10-18/
LOCATION:Portage Faith United Methodist Church\, 9922 State Route 44\, Mantua\, OH\, 44255\, United States
CATEGORIES:Office Hours
ATTACH;FMTTYPE=image/jpeg:https://portagefaith.com/wp-content/uploads/2023/11/PF-Outside-pink-flowers-1.jpeg
ORGANIZER;CN="Portage Faith United Methodist Church":MAILTO:officeadmin@portagefaith.com
END:VEVENT
BEGIN:VEVENT
DTSTART;TZID=America/Detroit:20271019T090000
DTEND;TZID=America/Detroit:20271019T110000
DTSTAMP:20260424T072930
CREATED:20231228T224707Z
LAST-MODIFIED:20231228T224709Z
UID:10001085-1823936400-1823943600@portagefaith.com
SUMMARY:Walk-In Office Hours
DESCRIPTION:Portage Faith Church Pastor Bill Graham holds Walk-In Office Hours on Tuesday and Thursday mornings from 9:00 – 11:00 am ET. \nPlease check the Announcements each week for any schedule conflict that may change Pastor Bill’s Walk-In Office Hours that week\, and please contact him in advance to make an appointment for other days/times.
URL:https://portagefaith.com/events/walk-in-office-hours-13-2/2027-10-19/
LOCATION:Portage Faith United Methodist Church\, 9922 State Route 44\, Mantua\, OH\, 44255\, United States
CATEGORIES:Office Hours
ATTACH;FMTTYPE=image/jpeg:https://portagefaith.com/wp-content/uploads/2023/10/PF-Bill-Office-Hrs-e1699542183796.jpg
ORGANIZER;CN="Pastor Bill Graham":MAILTO:Rev.Bill.Graham@gmail.com
END:VEVENT
BEGIN:VEVENT
DTSTART;TZID=America/Detroit:20271021T090000
DTEND;TZID=America/Detroit:20271021T110000
DTSTAMP:20260424T072930
CREATED:20231108T034122Z
LAST-MODIFIED:20231206T221550Z
UID:10000570-1824109200-1824116400@portagefaith.com
SUMMARY:Walk-In Office Hours
DESCRIPTION:Portage Faith Church Pastor Bill Graham holds Walk-In Office Hours on Tuesday and Thursday mornings from 9:00 – 11:00 am ET. \nPlease check the Announcements each week for any schedule conflict that may change Pastor Bill’s Walk-In Office Hours that week\, and please contact him in advance to make an appointment for other days/times.
URL:https://portagefaith.com/events/walk-in-office-hours-12/2027-10-21/
LOCATION:Portage Faith United Methodist Church\, 9922 State Route 44\, Mantua\, OH\, 44255\, United States
CATEGORIES:Office Hours
ATTACH;FMTTYPE=image/jpeg:https://portagefaith.com/wp-content/uploads/2023/10/PF-Bill-Office-Hrs-e1699542183796.jpg
ORGANIZER;CN="Pastor Bill Graham":MAILTO:Rev.Bill.Graham@gmail.com
END:VEVENT
BEGIN:VEVENT
DTSTART;VALUE=DATE:20271022
DTEND;VALUE=DATE:20271023
DTSTAMP:20260424T072930
CREATED:20231102T231125Z
LAST-MODIFIED:20231206T221455Z
UID:10000313-1824163200-1824249599@portagefaith.com
SUMMARY:Office Closed
DESCRIPTION:
URL:https://portagefaith.com/events/office-closed-16/2027-10-22/
LOCATION:Portage Faith United Methodist Church\, 9922 State Route 44\, Mantua\, OH\, 44255\, United States
CATEGORIES:Office Hours
ATTACH;FMTTYPE=image/jpeg:https://portagefaith.com/wp-content/uploads/2023/11/PF-drive-3.jpeg
ORGANIZER;CN="Portage Faith United Methodist Church":MAILTO:officeadmin@portagefaith.com
END:VEVENT
BEGIN:VEVENT
DTSTART;VALUE=DATE:20271025
DTEND;VALUE=DATE:20271026
DTSTAMP:20260424T072930
CREATED:20231102T231256Z
LAST-MODIFIED:20231206T222249Z
UID:10001861-1824422400-1824508799@portagefaith.com
SUMMARY:Office Closed
DESCRIPTION:
URL:https://portagefaith.com/events/office-closed-18/2027-10-25/
LOCATION:Portage Faith United Methodist Church\, 9922 State Route 44\, Mantua\, OH\, 44255\, United States
CATEGORIES:Office Hours
ATTACH;FMTTYPE=image/jpeg:https://portagefaith.com/wp-content/uploads/2023/11/PF-Outside-pink-flowers-1.jpeg
ORGANIZER;CN="Portage Faith United Methodist Church":MAILTO:officeadmin@portagefaith.com
END:VEVENT
END:VCALENDAR