BEGIN:VCALENDAR
VERSION:2.0
PRODID:-//Portage Faith United Methodist Church - ECPv6.15.15//NONSGML v1.0//EN
CALSCALE:GREGORIAN
METHOD:PUBLISH
X-WR-CALNAME:Portage Faith United Methodist Church
X-ORIGINAL-URL:https://portagefaith.com
X-WR-CALDESC:Events for Portage Faith United Methodist Church
REFRESH-INTERVAL;VALUE=DURATION:PT1H
X-Robots-Tag:noindex
X-PUBLISHED-TTL:PT1H
BEGIN:VTIMEZONE
TZID:America/Detroit
BEGIN:DAYLIGHT
TZOFFSETFROM:-0500
TZOFFSETTO:-0400
TZNAME:EDT
DTSTART:20270314T070000
END:DAYLIGHT
BEGIN:STANDARD
TZOFFSETFROM:-0400
TZOFFSETTO:-0500
TZNAME:EST
DTSTART:20271107T060000
END:STANDARD
BEGIN:DAYLIGHT
TZOFFSETFROM:-0500
TZOFFSETTO:-0400
TZNAME:EDT
DTSTART:20280312T070000
END:DAYLIGHT
BEGIN:STANDARD
TZOFFSETFROM:-0400
TZOFFSETTO:-0500
TZNAME:EST
DTSTART:20281105T060000
END:STANDARD
BEGIN:DAYLIGHT
TZOFFSETFROM:-0500
TZOFFSETTO:-0400
TZNAME:EDT
DTSTART:20290311T070000
END:DAYLIGHT
BEGIN:STANDARD
TZOFFSETFROM:-0400
TZOFFSETTO:-0500
TZNAME:EST
DTSTART:20291104T060000
END:STANDARD
END:VTIMEZONE
BEGIN:VEVENT
DTSTART;VALUE=DATE:20280825
DTEND;VALUE=DATE:20280826
DTSTAMP:20260425T123557
CREATED:20231102T231125Z
LAST-MODIFIED:20231206T221455Z
UID:10000357-1850774400-1850860799@portagefaith.com
SUMMARY:Office Closed
DESCRIPTION:
URL:https://portagefaith.com/events/office-closed-16/2028-08-25/
LOCATION:Portage Faith United Methodist Church\, 9922 State Route 44\, Mantua\, OH\, 44255\, United States
CATEGORIES:Office Hours
ATTACH;FMTTYPE=image/jpeg:https://portagefaith.com/wp-content/uploads/2023/11/PF-drive-3.jpeg
ORGANIZER;CN="Portage Faith United Methodist Church":MAILTO:officeadmin@portagefaith.com
END:VEVENT
BEGIN:VEVENT
DTSTART;TZID=America/Detroit:20280824T090000
DTEND;TZID=America/Detroit:20280824T110000
DTSTAMP:20260425T123557
CREATED:20231108T034122Z
LAST-MODIFIED:20231206T221550Z
UID:10000614-1850720400-1850727600@portagefaith.com
SUMMARY:Walk-In Office Hours
DESCRIPTION:Portage Faith Church Pastor Bill Graham holds Walk-In Office Hours on Tuesday and Thursday mornings from 9:00 – 11:00 am ET. \nPlease check the Announcements each week for any schedule conflict that may change Pastor Bill’s Walk-In Office Hours that week\, and please contact him in advance to make an appointment for other days/times.
URL:https://portagefaith.com/events/walk-in-office-hours-12/2028-08-24/
LOCATION:Portage Faith United Methodist Church\, 9922 State Route 44\, Mantua\, OH\, 44255\, United States
CATEGORIES:Office Hours
ATTACH;FMTTYPE=image/jpeg:https://portagefaith.com/wp-content/uploads/2023/10/PF-Bill-Office-Hrs-e1699542183796.jpg
ORGANIZER;CN="Pastor Bill Graham":MAILTO:Rev.Bill.Graham@gmail.com
END:VEVENT
BEGIN:VEVENT
DTSTART;TZID=America/Detroit:20280822T090000
DTEND;TZID=America/Detroit:20280822T110000
DTSTAMP:20260425T123557
CREATED:20231228T224707Z
LAST-MODIFIED:20231228T224709Z
UID:10001129-1850547600-1850554800@portagefaith.com
SUMMARY:Walk-In Office Hours
DESCRIPTION:Portage Faith Church Pastor Bill Graham holds Walk-In Office Hours on Tuesday and Thursday mornings from 9:00 – 11:00 am ET. \nPlease check the Announcements each week for any schedule conflict that may change Pastor Bill’s Walk-In Office Hours that week\, and please contact him in advance to make an appointment for other days/times.
URL:https://portagefaith.com/events/walk-in-office-hours-13-2/2028-08-22/
LOCATION:Portage Faith United Methodist Church\, 9922 State Route 44\, Mantua\, OH\, 44255\, United States
CATEGORIES:Office Hours
ATTACH;FMTTYPE=image/jpeg:https://portagefaith.com/wp-content/uploads/2023/10/PF-Bill-Office-Hrs-e1699542183796.jpg
ORGANIZER;CN="Pastor Bill Graham":MAILTO:Rev.Bill.Graham@gmail.com
END:VEVENT
BEGIN:VEVENT
DTSTART;VALUE=DATE:20280821
DTEND;VALUE=DATE:20280822
DTSTAMP:20260425T123557
CREATED:20231102T231256Z
LAST-MODIFIED:20231206T222249Z
UID:10001904-1850428800-1850515199@portagefaith.com
SUMMARY:Office Closed
DESCRIPTION:
URL:https://portagefaith.com/events/office-closed-18/2028-08-21/
LOCATION:Portage Faith United Methodist Church\, 9922 State Route 44\, Mantua\, OH\, 44255\, United States
CATEGORIES:Office Hours
ATTACH;FMTTYPE=image/jpeg:https://portagefaith.com/wp-content/uploads/2023/11/PF-Outside-pink-flowers-1.jpeg
ORGANIZER;CN="Portage Faith United Methodist Church":MAILTO:officeadmin@portagefaith.com
END:VEVENT
BEGIN:VEVENT
DTSTART;TZID=America/Detroit:20280820T093000
DTEND;TZID=America/Detroit:20280820T103000
DTSTAMP:20260425T123557
CREATED:20231207T181330Z
LAST-MODIFIED:20231208T154040Z
UID:10002161-1850376600-1850380200@portagefaith.com
SUMMARY:Worship Service
DESCRIPTION:Our Portage Faith Church Worship Service begins at 9:30 am every Sunday throughout the year. \nYou are always welcome here – please join us!
URL:https://portagefaith.com/events/worship-service-3/2028-08-20/
LOCATION:Portage Faith United Methodist Church\, 9922 State Route 44\, Mantua\, OH\, 44255\, United States
CATEGORIES:Worship
ATTACH;FMTTYPE=image/jpeg:https://portagefaith.com/wp-content/uploads/2023/11/PF-Events-Interior-Web.jpg
ORGANIZER;CN="Portage Faith United Methodist Church":MAILTO:officeadmin@portagefaith.com
END:VEVENT
BEGIN:VEVENT
DTSTART;VALUE=DATE:20280818
DTEND;VALUE=DATE:20280819
DTSTAMP:20260425T123557
CREATED:20231102T231125Z
LAST-MODIFIED:20231206T221455Z
UID:10000356-1850169600-1850255999@portagefaith.com
SUMMARY:Office Closed
DESCRIPTION:
URL:https://portagefaith.com/events/office-closed-16/2028-08-18/
LOCATION:Portage Faith United Methodist Church\, 9922 State Route 44\, Mantua\, OH\, 44255\, United States
CATEGORIES:Office Hours
ATTACH;FMTTYPE=image/jpeg:https://portagefaith.com/wp-content/uploads/2023/11/PF-drive-3.jpeg
ORGANIZER;CN="Portage Faith United Methodist Church":MAILTO:officeadmin@portagefaith.com
END:VEVENT
BEGIN:VEVENT
DTSTART;TZID=America/Detroit:20280817T090000
DTEND;TZID=America/Detroit:20280817T110000
DTSTAMP:20260425T123557
CREATED:20231108T034122Z
LAST-MODIFIED:20231206T221550Z
UID:10000613-1850115600-1850122800@portagefaith.com
SUMMARY:Walk-In Office Hours
DESCRIPTION:Portage Faith Church Pastor Bill Graham holds Walk-In Office Hours on Tuesday and Thursday mornings from 9:00 – 11:00 am ET. \nPlease check the Announcements each week for any schedule conflict that may change Pastor Bill’s Walk-In Office Hours that week\, and please contact him in advance to make an appointment for other days/times.
URL:https://portagefaith.com/events/walk-in-office-hours-12/2028-08-17/
LOCATION:Portage Faith United Methodist Church\, 9922 State Route 44\, Mantua\, OH\, 44255\, United States
CATEGORIES:Office Hours
ATTACH;FMTTYPE=image/jpeg:https://portagefaith.com/wp-content/uploads/2023/10/PF-Bill-Office-Hrs-e1699542183796.jpg
ORGANIZER;CN="Pastor Bill Graham":MAILTO:Rev.Bill.Graham@gmail.com
END:VEVENT
BEGIN:VEVENT
DTSTART;TZID=America/Detroit:20280815T090000
DTEND;TZID=America/Detroit:20280815T110000
DTSTAMP:20260425T123557
CREATED:20231228T224707Z
LAST-MODIFIED:20231228T224709Z
UID:10001128-1849942800-1849950000@portagefaith.com
SUMMARY:Walk-In Office Hours
DESCRIPTION:Portage Faith Church Pastor Bill Graham holds Walk-In Office Hours on Tuesday and Thursday mornings from 9:00 – 11:00 am ET. \nPlease check the Announcements each week for any schedule conflict that may change Pastor Bill’s Walk-In Office Hours that week\, and please contact him in advance to make an appointment for other days/times.
URL:https://portagefaith.com/events/walk-in-office-hours-13-2/2028-08-15/
LOCATION:Portage Faith United Methodist Church\, 9922 State Route 44\, Mantua\, OH\, 44255\, United States
CATEGORIES:Office Hours
ATTACH;FMTTYPE=image/jpeg:https://portagefaith.com/wp-content/uploads/2023/10/PF-Bill-Office-Hrs-e1699542183796.jpg
ORGANIZER;CN="Pastor Bill Graham":MAILTO:Rev.Bill.Graham@gmail.com
END:VEVENT
BEGIN:VEVENT
DTSTART;VALUE=DATE:20280814
DTEND;VALUE=DATE:20280815
DTSTAMP:20260425T123557
CREATED:20231102T231256Z
LAST-MODIFIED:20231206T222249Z
UID:10001903-1849824000-1849910399@portagefaith.com
SUMMARY:Office Closed
DESCRIPTION:
URL:https://portagefaith.com/events/office-closed-18/2028-08-14/
LOCATION:Portage Faith United Methodist Church\, 9922 State Route 44\, Mantua\, OH\, 44255\, United States
CATEGORIES:Office Hours
ATTACH;FMTTYPE=image/jpeg:https://portagefaith.com/wp-content/uploads/2023/11/PF-Outside-pink-flowers-1.jpeg
ORGANIZER;CN="Portage Faith United Methodist Church":MAILTO:officeadmin@portagefaith.com
END:VEVENT
BEGIN:VEVENT
DTSTART;TZID=America/Detroit:20280813T093000
DTEND;TZID=America/Detroit:20280813T103000
DTSTAMP:20260425T123557
CREATED:20231207T181330Z
LAST-MODIFIED:20231208T154040Z
UID:10002160-1849771800-1849775400@portagefaith.com
SUMMARY:Worship Service
DESCRIPTION:Our Portage Faith Church Worship Service begins at 9:30 am every Sunday throughout the year. \nYou are always welcome here – please join us!
URL:https://portagefaith.com/events/worship-service-3/2028-08-13/
LOCATION:Portage Faith United Methodist Church\, 9922 State Route 44\, Mantua\, OH\, 44255\, United States
CATEGORIES:Worship
ATTACH;FMTTYPE=image/jpeg:https://portagefaith.com/wp-content/uploads/2023/11/PF-Events-Interior-Web.jpg
ORGANIZER;CN="Portage Faith United Methodist Church":MAILTO:officeadmin@portagefaith.com
END:VEVENT
BEGIN:VEVENT
DTSTART;TZID=America/Detroit:20280813T073000
DTEND;TZID=America/Detroit:20280813T073000
DTSTAMP:20260425T123557
CREATED:20240220T181815Z
LAST-MODIFIED:20260307T162741Z
UID:10002436-1849764600-1849764600@portagefaith.com
SUMMARY:UMM Breakfast Meeting
DESCRIPTION:The Portage Faith United Methodist Men (UMM) will hold a Breakfast Meeting in our Blue Room today at 7:30 am. All men are welcome to attend. \nLearn more and ask questions about our long- and short-term projects to help the church and our community! \nLearn more about the UMM!
URL:https://portagefaith.com/events/umm-breakfast-meeting-3/2028-08-13/
LOCATION:Portage Faith United Methodist Church\, 9922 State Route 44\, Mantua\, OH\, 44255\, United States
CATEGORIES:United Methodist Men
ATTACH;FMTTYPE=image/jpeg:https://portagefaith.com/wp-content/uploads/2023/11/UMC-Logo-PFC-UMM-Brkfst.jpg
END:VEVENT
BEGIN:VEVENT
DTSTART;VALUE=DATE:20280811
DTEND;VALUE=DATE:20280812
DTSTAMP:20260425T123557
CREATED:20231102T231125Z
LAST-MODIFIED:20231206T221455Z
UID:10000355-1849564800-1849651199@portagefaith.com
SUMMARY:Office Closed
DESCRIPTION:
URL:https://portagefaith.com/events/office-closed-16/2028-08-11/
LOCATION:Portage Faith United Methodist Church\, 9922 State Route 44\, Mantua\, OH\, 44255\, United States
CATEGORIES:Office Hours
ATTACH;FMTTYPE=image/jpeg:https://portagefaith.com/wp-content/uploads/2023/11/PF-drive-3.jpeg
ORGANIZER;CN="Portage Faith United Methodist Church":MAILTO:officeadmin@portagefaith.com
END:VEVENT
BEGIN:VEVENT
DTSTART;TZID=America/Detroit:20280810T090000
DTEND;TZID=America/Detroit:20280810T110000
DTSTAMP:20260425T123557
CREATED:20231108T034122Z
LAST-MODIFIED:20231206T221550Z
UID:10000612-1849510800-1849518000@portagefaith.com
SUMMARY:Walk-In Office Hours
DESCRIPTION:Portage Faith Church Pastor Bill Graham holds Walk-In Office Hours on Tuesday and Thursday mornings from 9:00 – 11:00 am ET. \nPlease check the Announcements each week for any schedule conflict that may change Pastor Bill’s Walk-In Office Hours that week\, and please contact him in advance to make an appointment for other days/times.
URL:https://portagefaith.com/events/walk-in-office-hours-12/2028-08-10/
LOCATION:Portage Faith United Methodist Church\, 9922 State Route 44\, Mantua\, OH\, 44255\, United States
CATEGORIES:Office Hours
ATTACH;FMTTYPE=image/jpeg:https://portagefaith.com/wp-content/uploads/2023/10/PF-Bill-Office-Hrs-e1699542183796.jpg
ORGANIZER;CN="Pastor Bill Graham":MAILTO:Rev.Bill.Graham@gmail.com
END:VEVENT
BEGIN:VEVENT
DTSTART;TZID=America/Detroit:20280808T100000
DTEND;TZID=America/Detroit:20280808T100000
DTSTAMP:20260425T123557
CREATED:20240116T210027Z
LAST-MODIFIED:20240206T190225Z
UID:10002318-1849341600-1849341600@portagefaith.com
SUMMARY:Book Club
DESCRIPTION:Everyone who loves to read is welcome to participate in the Portage Faith UMC Book Club. \nWe meet on the second Tuesday of each month in the library at 10:00 am. \nHope to see you soon! \n  \n 
URL:https://portagefaith.com/events/book-club/2028-08-08/
LOCATION:Portage Faith United Methodist Church\, 9922 State Route 44\, Mantua\, OH\, 44255\, United States
CATEGORIES:Book Club
ATTACH;FMTTYPE=image/jpeg:https://portagefaith.com/wp-content/uploads/2024/01/PF-BookClub-2024-Web.jpg
ORGANIZER;CN="Portage Faith United Methodist Church":MAILTO:officeadmin@portagefaith.com
END:VEVENT
BEGIN:VEVENT
DTSTART;TZID=America/Detroit:20280808T090000
DTEND;TZID=America/Detroit:20280808T110000
DTSTAMP:20260425T123557
CREATED:20231228T224707Z
LAST-MODIFIED:20231228T224709Z
UID:10001127-1849338000-1849345200@portagefaith.com
SUMMARY:Walk-In Office Hours
DESCRIPTION:Portage Faith Church Pastor Bill Graham holds Walk-In Office Hours on Tuesday and Thursday mornings from 9:00 – 11:00 am ET. \nPlease check the Announcements each week for any schedule conflict that may change Pastor Bill’s Walk-In Office Hours that week\, and please contact him in advance to make an appointment for other days/times.
URL:https://portagefaith.com/events/walk-in-office-hours-13-2/2028-08-08/
LOCATION:Portage Faith United Methodist Church\, 9922 State Route 44\, Mantua\, OH\, 44255\, United States
CATEGORIES:Office Hours
ATTACH;FMTTYPE=image/jpeg:https://portagefaith.com/wp-content/uploads/2023/10/PF-Bill-Office-Hrs-e1699542183796.jpg
ORGANIZER;CN="Pastor Bill Graham":MAILTO:Rev.Bill.Graham@gmail.com
END:VEVENT
BEGIN:VEVENT
DTSTART;VALUE=DATE:20280807
DTEND;VALUE=DATE:20280808
DTSTAMP:20260425T123557
CREATED:20231102T231256Z
LAST-MODIFIED:20231206T222249Z
UID:10001902-1849219200-1849305599@portagefaith.com
SUMMARY:Office Closed
DESCRIPTION:
URL:https://portagefaith.com/events/office-closed-18/2028-08-07/
LOCATION:Portage Faith United Methodist Church\, 9922 State Route 44\, Mantua\, OH\, 44255\, United States
CATEGORIES:Office Hours
ATTACH;FMTTYPE=image/jpeg:https://portagefaith.com/wp-content/uploads/2023/11/PF-Outside-pink-flowers-1.jpeg
ORGANIZER;CN="Portage Faith United Methodist Church":MAILTO:officeadmin@portagefaith.com
END:VEVENT
BEGIN:VEVENT
DTSTART;TZID=America/Detroit:20280806T093000
DTEND;TZID=America/Detroit:20280806T103000
DTSTAMP:20260425T123557
CREATED:20231207T181330Z
LAST-MODIFIED:20231208T154040Z
UID:10002159-1849167000-1849170600@portagefaith.com
SUMMARY:Worship Service
DESCRIPTION:Our Portage Faith Church Worship Service begins at 9:30 am every Sunday throughout the year. \nYou are always welcome here – please join us!
URL:https://portagefaith.com/events/worship-service-3/2028-08-06/
LOCATION:Portage Faith United Methodist Church\, 9922 State Route 44\, Mantua\, OH\, 44255\, United States
CATEGORIES:Worship
ATTACH;FMTTYPE=image/jpeg:https://portagefaith.com/wp-content/uploads/2023/11/PF-Events-Interior-Web.jpg
ORGANIZER;CN="Portage Faith United Methodist Church":MAILTO:officeadmin@portagefaith.com
END:VEVENT
BEGIN:VEVENT
DTSTART;VALUE=DATE:20280804
DTEND;VALUE=DATE:20280805
DTSTAMP:20260425T123557
CREATED:20231102T231125Z
LAST-MODIFIED:20231206T221455Z
UID:10000354-1848960000-1849046399@portagefaith.com
SUMMARY:Office Closed
DESCRIPTION:
URL:https://portagefaith.com/events/office-closed-16/2028-08-04/
LOCATION:Portage Faith United Methodist Church\, 9922 State Route 44\, Mantua\, OH\, 44255\, United States
CATEGORIES:Office Hours
ATTACH;FMTTYPE=image/jpeg:https://portagefaith.com/wp-content/uploads/2023/11/PF-drive-3.jpeg
ORGANIZER;CN="Portage Faith United Methodist Church":MAILTO:officeadmin@portagefaith.com
END:VEVENT
BEGIN:VEVENT
DTSTART;TZID=America/Detroit:20280803T090000
DTEND;TZID=America/Detroit:20280803T110000
DTSTAMP:20260425T123557
CREATED:20231108T034122Z
LAST-MODIFIED:20231206T221550Z
UID:10000611-1848906000-1848913200@portagefaith.com
SUMMARY:Walk-In Office Hours
DESCRIPTION:Portage Faith Church Pastor Bill Graham holds Walk-In Office Hours on Tuesday and Thursday mornings from 9:00 – 11:00 am ET. \nPlease check the Announcements each week for any schedule conflict that may change Pastor Bill’s Walk-In Office Hours that week\, and please contact him in advance to make an appointment for other days/times.
URL:https://portagefaith.com/events/walk-in-office-hours-12/2028-08-03/
LOCATION:Portage Faith United Methodist Church\, 9922 State Route 44\, Mantua\, OH\, 44255\, United States
CATEGORIES:Office Hours
ATTACH;FMTTYPE=image/jpeg:https://portagefaith.com/wp-content/uploads/2023/10/PF-Bill-Office-Hrs-e1699542183796.jpg
ORGANIZER;CN="Pastor Bill Graham":MAILTO:Rev.Bill.Graham@gmail.com
END:VEVENT
BEGIN:VEVENT
DTSTART;TZID=America/Detroit:20280801T090000
DTEND;TZID=America/Detroit:20280801T110000
DTSTAMP:20260425T123557
CREATED:20231228T224707Z
LAST-MODIFIED:20231228T224709Z
UID:10001126-1848733200-1848740400@portagefaith.com
SUMMARY:Walk-In Office Hours
DESCRIPTION:Portage Faith Church Pastor Bill Graham holds Walk-In Office Hours on Tuesday and Thursday mornings from 9:00 – 11:00 am ET. \nPlease check the Announcements each week for any schedule conflict that may change Pastor Bill’s Walk-In Office Hours that week\, and please contact him in advance to make an appointment for other days/times.
URL:https://portagefaith.com/events/walk-in-office-hours-13-2/2028-08-01/
LOCATION:Portage Faith United Methodist Church\, 9922 State Route 44\, Mantua\, OH\, 44255\, United States
CATEGORIES:Office Hours
ATTACH;FMTTYPE=image/jpeg:https://portagefaith.com/wp-content/uploads/2023/10/PF-Bill-Office-Hrs-e1699542183796.jpg
ORGANIZER;CN="Pastor Bill Graham":MAILTO:Rev.Bill.Graham@gmail.com
END:VEVENT
BEGIN:VEVENT
DTSTART;VALUE=DATE:20280731
DTEND;VALUE=DATE:20280801
DTSTAMP:20260425T123557
CREATED:20231102T231256Z
LAST-MODIFIED:20231206T222249Z
UID:10001901-1848614400-1848700799@portagefaith.com
SUMMARY:Office Closed
DESCRIPTION:
URL:https://portagefaith.com/events/office-closed-18/2028-07-31/
LOCATION:Portage Faith United Methodist Church\, 9922 State Route 44\, Mantua\, OH\, 44255\, United States
CATEGORIES:Office Hours
ATTACH;FMTTYPE=image/jpeg:https://portagefaith.com/wp-content/uploads/2023/11/PF-Outside-pink-flowers-1.jpeg
ORGANIZER;CN="Portage Faith United Methodist Church":MAILTO:officeadmin@portagefaith.com
END:VEVENT
BEGIN:VEVENT
DTSTART;TZID=America/Detroit:20280730T093000
DTEND;TZID=America/Detroit:20280730T103000
DTSTAMP:20260425T123557
CREATED:20231207T181330Z
LAST-MODIFIED:20231208T154040Z
UID:10002158-1848562200-1848565800@portagefaith.com
SUMMARY:Worship Service
DESCRIPTION:Our Portage Faith Church Worship Service begins at 9:30 am every Sunday throughout the year. \nYou are always welcome here – please join us!
URL:https://portagefaith.com/events/worship-service-3/2028-07-30/
LOCATION:Portage Faith United Methodist Church\, 9922 State Route 44\, Mantua\, OH\, 44255\, United States
CATEGORIES:Worship
ATTACH;FMTTYPE=image/jpeg:https://portagefaith.com/wp-content/uploads/2023/11/PF-Events-Interior-Web.jpg
ORGANIZER;CN="Portage Faith United Methodist Church":MAILTO:officeadmin@portagefaith.com
END:VEVENT
BEGIN:VEVENT
DTSTART;VALUE=DATE:20280728
DTEND;VALUE=DATE:20280729
DTSTAMP:20260425T123557
CREATED:20231102T231125Z
LAST-MODIFIED:20231206T221455Z
UID:10000353-1848355200-1848441599@portagefaith.com
SUMMARY:Office Closed
DESCRIPTION:
URL:https://portagefaith.com/events/office-closed-16/2028-07-28/
LOCATION:Portage Faith United Methodist Church\, 9922 State Route 44\, Mantua\, OH\, 44255\, United States
CATEGORIES:Office Hours
ATTACH;FMTTYPE=image/jpeg:https://portagefaith.com/wp-content/uploads/2023/11/PF-drive-3.jpeg
ORGANIZER;CN="Portage Faith United Methodist Church":MAILTO:officeadmin@portagefaith.com
END:VEVENT
BEGIN:VEVENT
DTSTART;TZID=America/Detroit:20280727T090000
DTEND;TZID=America/Detroit:20280727T110000
DTSTAMP:20260425T123557
CREATED:20231108T034122Z
LAST-MODIFIED:20231206T221550Z
UID:10000610-1848301200-1848308400@portagefaith.com
SUMMARY:Walk-In Office Hours
DESCRIPTION:Portage Faith Church Pastor Bill Graham holds Walk-In Office Hours on Tuesday and Thursday mornings from 9:00 – 11:00 am ET. \nPlease check the Announcements each week for any schedule conflict that may change Pastor Bill’s Walk-In Office Hours that week\, and please contact him in advance to make an appointment for other days/times.
URL:https://portagefaith.com/events/walk-in-office-hours-12/2028-07-27/
LOCATION:Portage Faith United Methodist Church\, 9922 State Route 44\, Mantua\, OH\, 44255\, United States
CATEGORIES:Office Hours
ATTACH;FMTTYPE=image/jpeg:https://portagefaith.com/wp-content/uploads/2023/10/PF-Bill-Office-Hrs-e1699542183796.jpg
ORGANIZER;CN="Pastor Bill Graham":MAILTO:Rev.Bill.Graham@gmail.com
END:VEVENT
BEGIN:VEVENT
DTSTART;TZID=America/Detroit:20280725T090000
DTEND;TZID=America/Detroit:20280725T110000
DTSTAMP:20260425T123557
CREATED:20231228T224707Z
LAST-MODIFIED:20231228T224709Z
UID:10001125-1848128400-1848135600@portagefaith.com
SUMMARY:Walk-In Office Hours
DESCRIPTION:Portage Faith Church Pastor Bill Graham holds Walk-In Office Hours on Tuesday and Thursday mornings from 9:00 – 11:00 am ET. \nPlease check the Announcements each week for any schedule conflict that may change Pastor Bill’s Walk-In Office Hours that week\, and please contact him in advance to make an appointment for other days/times.
URL:https://portagefaith.com/events/walk-in-office-hours-13-2/2028-07-25/
LOCATION:Portage Faith United Methodist Church\, 9922 State Route 44\, Mantua\, OH\, 44255\, United States
CATEGORIES:Office Hours
ATTACH;FMTTYPE=image/jpeg:https://portagefaith.com/wp-content/uploads/2023/10/PF-Bill-Office-Hrs-e1699542183796.jpg
ORGANIZER;CN="Pastor Bill Graham":MAILTO:Rev.Bill.Graham@gmail.com
END:VEVENT
BEGIN:VEVENT
DTSTART;VALUE=DATE:20280724
DTEND;VALUE=DATE:20280725
DTSTAMP:20260425T123557
CREATED:20231102T231256Z
LAST-MODIFIED:20231206T222249Z
UID:10001900-1848009600-1848095999@portagefaith.com
SUMMARY:Office Closed
DESCRIPTION:
URL:https://portagefaith.com/events/office-closed-18/2028-07-24/
LOCATION:Portage Faith United Methodist Church\, 9922 State Route 44\, Mantua\, OH\, 44255\, United States
CATEGORIES:Office Hours
ATTACH;FMTTYPE=image/jpeg:https://portagefaith.com/wp-content/uploads/2023/11/PF-Outside-pink-flowers-1.jpeg
ORGANIZER;CN="Portage Faith United Methodist Church":MAILTO:officeadmin@portagefaith.com
END:VEVENT
BEGIN:VEVENT
DTSTART;TZID=America/Detroit:20280723T093000
DTEND;TZID=America/Detroit:20280723T103000
DTSTAMP:20260425T123557
CREATED:20231207T181330Z
LAST-MODIFIED:20231208T154040Z
UID:10002157-1847957400-1847961000@portagefaith.com
SUMMARY:Worship Service
DESCRIPTION:Our Portage Faith Church Worship Service begins at 9:30 am every Sunday throughout the year. \nYou are always welcome here – please join us!
URL:https://portagefaith.com/events/worship-service-3/2028-07-23/
LOCATION:Portage Faith United Methodist Church\, 9922 State Route 44\, Mantua\, OH\, 44255\, United States
CATEGORIES:Worship
ATTACH;FMTTYPE=image/jpeg:https://portagefaith.com/wp-content/uploads/2023/11/PF-Events-Interior-Web.jpg
ORGANIZER;CN="Portage Faith United Methodist Church":MAILTO:officeadmin@portagefaith.com
END:VEVENT
BEGIN:VEVENT
DTSTART;VALUE=DATE:20280721
DTEND;VALUE=DATE:20280722
DTSTAMP:20260425T123557
CREATED:20231102T231125Z
LAST-MODIFIED:20231206T221455Z
UID:10000352-1847750400-1847836799@portagefaith.com
SUMMARY:Office Closed
DESCRIPTION:
URL:https://portagefaith.com/events/office-closed-16/2028-07-21/
LOCATION:Portage Faith United Methodist Church\, 9922 State Route 44\, Mantua\, OH\, 44255\, United States
CATEGORIES:Office Hours
ATTACH;FMTTYPE=image/jpeg:https://portagefaith.com/wp-content/uploads/2023/11/PF-drive-3.jpeg
ORGANIZER;CN="Portage Faith United Methodist Church":MAILTO:officeadmin@portagefaith.com
END:VEVENT
BEGIN:VEVENT
DTSTART;TZID=America/Detroit:20280720T090000
DTEND;TZID=America/Detroit:20280720T110000
DTSTAMP:20260425T123557
CREATED:20231108T034122Z
LAST-MODIFIED:20231206T221550Z
UID:10000609-1847696400-1847703600@portagefaith.com
SUMMARY:Walk-In Office Hours
DESCRIPTION:Portage Faith Church Pastor Bill Graham holds Walk-In Office Hours on Tuesday and Thursday mornings from 9:00 – 11:00 am ET. \nPlease check the Announcements each week for any schedule conflict that may change Pastor Bill’s Walk-In Office Hours that week\, and please contact him in advance to make an appointment for other days/times.
URL:https://portagefaith.com/events/walk-in-office-hours-12/2028-07-20/
LOCATION:Portage Faith United Methodist Church\, 9922 State Route 44\, Mantua\, OH\, 44255\, United States
CATEGORIES:Office Hours
ATTACH;FMTTYPE=image/jpeg:https://portagefaith.com/wp-content/uploads/2023/10/PF-Bill-Office-Hrs-e1699542183796.jpg
ORGANIZER;CN="Pastor Bill Graham":MAILTO:Rev.Bill.Graham@gmail.com
END:VEVENT
BEGIN:VEVENT
DTSTART;TZID=America/Detroit:20280718T090000
DTEND;TZID=America/Detroit:20280718T110000
DTSTAMP:20260425T123557
CREATED:20231228T224707Z
LAST-MODIFIED:20231228T224709Z
UID:10001124-1847523600-1847530800@portagefaith.com
SUMMARY:Walk-In Office Hours
DESCRIPTION:Portage Faith Church Pastor Bill Graham holds Walk-In Office Hours on Tuesday and Thursday mornings from 9:00 – 11:00 am ET. \nPlease check the Announcements each week for any schedule conflict that may change Pastor Bill’s Walk-In Office Hours that week\, and please contact him in advance to make an appointment for other days/times.
URL:https://portagefaith.com/events/walk-in-office-hours-13-2/2028-07-18/
LOCATION:Portage Faith United Methodist Church\, 9922 State Route 44\, Mantua\, OH\, 44255\, United States
CATEGORIES:Office Hours
ATTACH;FMTTYPE=image/jpeg:https://portagefaith.com/wp-content/uploads/2023/10/PF-Bill-Office-Hrs-e1699542183796.jpg
ORGANIZER;CN="Pastor Bill Graham":MAILTO:Rev.Bill.Graham@gmail.com
END:VEVENT
END:VCALENDAR