BEGIN:VCALENDAR
VERSION:2.0
PRODID:-//Portage Faith United Methodist Church - ECPv6.15.15//NONSGML v1.0//EN
CALSCALE:GREGORIAN
METHOD:PUBLISH
X-WR-CALNAME:Portage Faith United Methodist Church
X-ORIGINAL-URL:https://portagefaith.com
X-WR-CALDESC:Events for Portage Faith United Methodist Church
REFRESH-INTERVAL;VALUE=DURATION:PT1H
X-Robots-Tag:noindex
X-PUBLISHED-TTL:PT1H
BEGIN:VTIMEZONE
TZID:America/Detroit
BEGIN:DAYLIGHT
TZOFFSETFROM:-0500
TZOFFSETTO:-0400
TZNAME:EDT
DTSTART:20250309T070000
END:DAYLIGHT
BEGIN:STANDARD
TZOFFSETFROM:-0400
TZOFFSETTO:-0500
TZNAME:EST
DTSTART:20251102T060000
END:STANDARD
BEGIN:DAYLIGHT
TZOFFSETFROM:-0500
TZOFFSETTO:-0400
TZNAME:EDT
DTSTART:20260308T070000
END:DAYLIGHT
BEGIN:STANDARD
TZOFFSETFROM:-0400
TZOFFSETTO:-0500
TZNAME:EST
DTSTART:20261101T060000
END:STANDARD
BEGIN:DAYLIGHT
TZOFFSETFROM:-0500
TZOFFSETTO:-0400
TZNAME:EDT
DTSTART:20270314T070000
END:DAYLIGHT
BEGIN:STANDARD
TZOFFSETFROM:-0400
TZOFFSETTO:-0500
TZNAME:EST
DTSTART:20271107T060000
END:STANDARD
END:VTIMEZONE
BEGIN:VEVENT
DTSTART;TZID=America/Detroit:20260317T090000
DTEND;TZID=America/Detroit:20260317T110000
DTSTAMP:20260425T110135
CREATED:20231228T224707Z
LAST-MODIFIED:20231228T224709Z
UID:10001002-1773738000-1773745200@portagefaith.com
SUMMARY:Walk-In Office Hours
DESCRIPTION:Portage Faith Church Pastor Bill Graham holds Walk-In Office Hours on Tuesday and Thursday mornings from 9:00 – 11:00 am ET. \nPlease check the Announcements each week for any schedule conflict that may change Pastor Bill’s Walk-In Office Hours that week\, and please contact him in advance to make an appointment for other days/times.
URL:https://portagefaith.com/events/walk-in-office-hours-13-2/2026-03-17/
LOCATION:Portage Faith United Methodist Church\, 9922 State Route 44\, Mantua\, OH\, 44255\, United States
CATEGORIES:Office Hours
ATTACH;FMTTYPE=image/jpeg:https://portagefaith.com/wp-content/uploads/2023/10/PF-Bill-Office-Hrs-e1699542183796.jpg
ORGANIZER;CN="Pastor Bill Graham":MAILTO:Rev.Bill.Graham@gmail.com
END:VEVENT
BEGIN:VEVENT
DTSTART;VALUE=DATE:20260316
DTEND;VALUE=DATE:20260317
DTSTAMP:20260425T110135
CREATED:20231102T231256Z
LAST-MODIFIED:20231206T222249Z
UID:10001777-1773619200-1773705599@portagefaith.com
SUMMARY:Office Closed
DESCRIPTION:
URL:https://portagefaith.com/events/office-closed-18/2026-03-16/
LOCATION:Portage Faith United Methodist Church\, 9922 State Route 44\, Mantua\, OH\, 44255\, United States
CATEGORIES:Office Hours
ATTACH;FMTTYPE=image/jpeg:https://portagefaith.com/wp-content/uploads/2023/11/PF-Outside-pink-flowers-1.jpeg
ORGANIZER;CN="Portage Faith United Methodist Church":MAILTO:officeadmin@portagefaith.com
END:VEVENT
BEGIN:VEVENT
DTSTART;TZID=America/Detroit:20260315T093000
DTEND;TZID=America/Detroit:20260315T103000
DTSTAMP:20260425T110135
CREATED:20231207T181330Z
LAST-MODIFIED:20231208T154040Z
UID:10002034-1773567000-1773570600@portagefaith.com
SUMMARY:Worship Service
DESCRIPTION:Our Portage Faith Church Worship Service begins at 9:30 am every Sunday throughout the year. \nYou are always welcome here – please join us!
URL:https://portagefaith.com/events/worship-service-3/2026-03-15/
LOCATION:Portage Faith United Methodist Church\, 9922 State Route 44\, Mantua\, OH\, 44255\, United States
CATEGORIES:Worship
ATTACH;FMTTYPE=image/jpeg:https://portagefaith.com/wp-content/uploads/2023/11/PF-Events-Interior-Web.jpg
ORGANIZER;CN="Portage Faith United Methodist Church":MAILTO:officeadmin@portagefaith.com
END:VEVENT
BEGIN:VEVENT
DTSTART;TZID=America/Detroit:20260313T103000
DTEND;TZID=America/Detroit:20260313T130000
DTSTAMP:20260425T110135
CREATED:20260303T184422Z
LAST-MODIFIED:20260303T192537Z
UID:10004118-1773397800-1773406800@portagefaith.com
SUMMARY:Home School Kids Makers Market
DESCRIPTION:Come and shop at the Kids Makers Market for gifts and more. \nThere will be food\, handmade items\, jewelry\, music and more. \nPlease bring your family and friends to support our young entrepreneurs!
URL:https://portagefaith.com/events/home-school-kids-makers-market/
LOCATION:Portage Faith United Methodist Church\, 9922 State Route 44\, Mantua\, OH\, 44255\, United States
CATEGORIES:Community
ATTACH;FMTTYPE=image/jpeg:https://portagefaith.com/wp-content/uploads/2026/03/Homeschool-kids-makers-market.jpeg
END:VEVENT
BEGIN:VEVENT
DTSTART;VALUE=DATE:20260313
DTEND;VALUE=DATE:20260314
DTSTAMP:20260425T110135
CREATED:20231102T231125Z
LAST-MODIFIED:20231206T221455Z
UID:10000229-1773360000-1773446399@portagefaith.com
SUMMARY:Office Closed
DESCRIPTION:
URL:https://portagefaith.com/events/office-closed-16/2026-03-13/
LOCATION:Portage Faith United Methodist Church\, 9922 State Route 44\, Mantua\, OH\, 44255\, United States
CATEGORIES:Office Hours
ATTACH;FMTTYPE=image/jpeg:https://portagefaith.com/wp-content/uploads/2023/11/PF-drive-3.jpeg
ORGANIZER;CN="Portage Faith United Methodist Church":MAILTO:officeadmin@portagefaith.com
END:VEVENT
BEGIN:VEVENT
DTSTART;TZID=America/Detroit:20260312T190000
DTEND;TZID=America/Detroit:20260312T193000
DTSTAMP:20260425T110135
CREATED:20250610T162003Z
LAST-MODIFIED:20260128T182944Z
UID:10003793-1773342000-1773343800@portagefaith.com
SUMMARY:Trustees Meeting
DESCRIPTION:The Trustees of Portage Faith Church UMC in Mantua\, Ohio\, meet every other month on the second Thursday (immediately following the Finance Committee meeting) at 7:00 pm.
URL:https://portagefaith.com/events/trustees-meeting-3/2026-03-12/
LOCATION:Portage Faith United Methodist Church\, 9922 State Route 44\, Mantua\, OH\, 44255\, United States
CATEGORIES:Committees
ATTACH;FMTTYPE=image/jpeg:https://portagefaith.com/wp-content/uploads/2023/11/PF-sign-welcome-web.jpg
END:VEVENT
BEGIN:VEVENT
DTSTART;TZID=America/Detroit:20260312T183000
DTEND;TZID=America/Detroit:20260312T190000
DTSTAMP:20260425T110135
CREATED:20250610T155837Z
LAST-MODIFIED:20260128T181817Z
UID:10003785-1773340200-1773342000@portagefaith.com
SUMMARY:Finance Meeting
DESCRIPTION:The Portage Faith Church Finance Committee will meet in Goodell Hall at 6:30 pm.  The meeting is open to anyone interested.
URL:https://portagefaith.com/events/finance-meeting-3/2026-03-12/
LOCATION:Portage Faith United Methodist Church\, 9922 State Route 44\, Mantua\, OH\, 44255\, United States
CATEGORIES:Committees
ATTACH;FMTTYPE=image/jpeg:https://portagefaith.com/wp-content/uploads/2023/11/UMC-Mtg-Church-Distance.jpg
END:VEVENT
BEGIN:VEVENT
DTSTART;TZID=America/Detroit:20260312T100000
DTEND;TZID=America/Detroit:20260312T233000
DTSTAMP:20260425T110135
CREATED:20260128T191018Z
LAST-MODIFIED:20260128T191018Z
UID:10004020-1773309600-1773358200@portagefaith.com
SUMMARY:Lent Bible Study
DESCRIPTION:Pastor Bill will lead a 6-week Lenten Study Group\, Thursdays\, 10-11:30 am\, February 19-March 26\, 2026.  We’ll consider how loving our neighbors helps us deepen our love of God. Our time together will include discussion and sharing.
URL:https://portagefaith.com/events/lent-bible-study/2026-03-12/
LOCATION:Portage Faith United Methodist Church\, 9922 State Route 44\, Mantua\, OH\, 44255\, United States
CATEGORIES:Lenten Study
ATTACH;FMTTYPE=image/jpeg:https://portagefaith.com/wp-content/uploads/2025/09/study_6494c-scaled.jpg
ORGANIZER;CN="Pastor Bill Graham":MAILTO:Rev.Bill.Graham@gmail.com
END:VEVENT
BEGIN:VEVENT
DTSTART;TZID=America/Detroit:20260312T090000
DTEND;TZID=America/Detroit:20260312T110000
DTSTAMP:20260425T110135
CREATED:20231108T034122Z
LAST-MODIFIED:20231206T221550Z
UID:10000486-1773306000-1773313200@portagefaith.com
SUMMARY:Walk-In Office Hours
DESCRIPTION:Portage Faith Church Pastor Bill Graham holds Walk-In Office Hours on Tuesday and Thursday mornings from 9:00 – 11:00 am ET. \nPlease check the Announcements each week for any schedule conflict that may change Pastor Bill’s Walk-In Office Hours that week\, and please contact him in advance to make an appointment for other days/times.
URL:https://portagefaith.com/events/walk-in-office-hours-12/2026-03-12/
LOCATION:Portage Faith United Methodist Church\, 9922 State Route 44\, Mantua\, OH\, 44255\, United States
CATEGORIES:Office Hours
ATTACH;FMTTYPE=image/jpeg:https://portagefaith.com/wp-content/uploads/2023/10/PF-Bill-Office-Hrs-e1699542183796.jpg
ORGANIZER;CN="Pastor Bill Graham":MAILTO:Rev.Bill.Graham@gmail.com
END:VEVENT
BEGIN:VEVENT
DTSTART;TZID=America/Detroit:20260310T100000
DTEND;TZID=America/Detroit:20260310T100000
DTSTAMP:20260425T110135
CREATED:20240116T210027Z
LAST-MODIFIED:20240206T190225Z
UID:10002289-1773136800-1773136800@portagefaith.com
SUMMARY:Book Club
DESCRIPTION:Everyone who loves to read is welcome to participate in the Portage Faith UMC Book Club. \nWe meet on the second Tuesday of each month in the library at 10:00 am. \nHope to see you soon! \n  \n 
URL:https://portagefaith.com/events/book-club/2026-03-10/
LOCATION:Portage Faith United Methodist Church\, 9922 State Route 44\, Mantua\, OH\, 44255\, United States
CATEGORIES:Book Club
ATTACH;FMTTYPE=image/jpeg:https://portagefaith.com/wp-content/uploads/2024/01/PF-BookClub-2024-Web.jpg
ORGANIZER;CN="Portage Faith United Methodist Church":MAILTO:officeadmin@portagefaith.com
END:VEVENT
BEGIN:VEVENT
DTSTART;TZID=America/Detroit:20260310T090000
DTEND;TZID=America/Detroit:20260310T110000
DTSTAMP:20260425T110135
CREATED:20231228T224707Z
LAST-MODIFIED:20231228T224709Z
UID:10001001-1773133200-1773140400@portagefaith.com
SUMMARY:Walk-In Office Hours
DESCRIPTION:Portage Faith Church Pastor Bill Graham holds Walk-In Office Hours on Tuesday and Thursday mornings from 9:00 – 11:00 am ET. \nPlease check the Announcements each week for any schedule conflict that may change Pastor Bill’s Walk-In Office Hours that week\, and please contact him in advance to make an appointment for other days/times.
URL:https://portagefaith.com/events/walk-in-office-hours-13-2/2026-03-10/
LOCATION:Portage Faith United Methodist Church\, 9922 State Route 44\, Mantua\, OH\, 44255\, United States
CATEGORIES:Office Hours
ATTACH;FMTTYPE=image/jpeg:https://portagefaith.com/wp-content/uploads/2023/10/PF-Bill-Office-Hrs-e1699542183796.jpg
ORGANIZER;CN="Pastor Bill Graham":MAILTO:Rev.Bill.Graham@gmail.com
END:VEVENT
BEGIN:VEVENT
DTSTART;VALUE=DATE:20260309
DTEND;VALUE=DATE:20260310
DTSTAMP:20260425T110135
CREATED:20231102T231256Z
LAST-MODIFIED:20231206T222249Z
UID:10001776-1773014400-1773100799@portagefaith.com
SUMMARY:Office Closed
DESCRIPTION:
URL:https://portagefaith.com/events/office-closed-18/2026-03-09/
LOCATION:Portage Faith United Methodist Church\, 9922 State Route 44\, Mantua\, OH\, 44255\, United States
CATEGORIES:Office Hours
ATTACH;FMTTYPE=image/jpeg:https://portagefaith.com/wp-content/uploads/2023/11/PF-Outside-pink-flowers-1.jpeg
ORGANIZER;CN="Portage Faith United Methodist Church":MAILTO:officeadmin@portagefaith.com
END:VEVENT
BEGIN:VEVENT
DTSTART;TZID=America/Detroit:20260308T170000
DTEND;TZID=America/Detroit:20260308T183000
DTSTAMP:20260425T110135
CREATED:20260303T183620Z
LAST-MODIFIED:20260307T162149Z
UID:10004120-1772989200-1772994600@portagefaith.com
SUMMARY:Lenten Potluck Dinner
DESCRIPTION:Come join us for a time of fellowship and education at our Lenten Potluck Dinner on Sunday\, March 8\, at 5:00 pm. \nBring a dish to share and beverages will be provided. \nFollowing our meal Pastor Bill will share some of his thoughts on pilgrimage and photos from his walk on the Camino Frances in Spain last year.
URL:https://portagefaith.com/events/lenten-potluck-dinner/
LOCATION:Portage Faith United Methodist Church\, 9922 State Route 44\, Mantua\, OH\, 44255\, United States
CATEGORIES:Community,Fellowship,Food
ATTACH;FMTTYPE=image/jpeg:https://portagefaith.com/wp-content/uploads/2024/01/PF-FREE-buffet-dinner.jpg
END:VEVENT
BEGIN:VEVENT
DTSTART;TZID=America/Detroit:20260308T093000
DTEND;TZID=America/Detroit:20260308T103000
DTSTAMP:20260425T110135
CREATED:20231207T181330Z
LAST-MODIFIED:20231208T154040Z
UID:10002033-1772962200-1772965800@portagefaith.com
SUMMARY:Worship Service
DESCRIPTION:Our Portage Faith Church Worship Service begins at 9:30 am every Sunday throughout the year. \nYou are always welcome here – please join us!
URL:https://portagefaith.com/events/worship-service-3/2026-03-08/
LOCATION:Portage Faith United Methodist Church\, 9922 State Route 44\, Mantua\, OH\, 44255\, United States
CATEGORIES:Worship
ATTACH;FMTTYPE=image/jpeg:https://portagefaith.com/wp-content/uploads/2023/11/PF-Events-Interior-Web.jpg
ORGANIZER;CN="Portage Faith United Methodist Church":MAILTO:officeadmin@portagefaith.com
END:VEVENT
BEGIN:VEVENT
DTSTART;TZID=America/Detroit:20260308T073000
DTEND;TZID=America/Detroit:20260308T073000
DTSTAMP:20260425T110135
CREATED:20240220T181815Z
LAST-MODIFIED:20260307T162741Z
UID:10002407-1772955000-1772955000@portagefaith.com
SUMMARY:UMM Breakfast Meeting
DESCRIPTION:The Portage Faith United Methodist Men (UMM) will hold a Breakfast Meeting in our Blue Room today at 7:30 am. All men are welcome to attend. \nLearn more and ask questions about our long- and short-term projects to help the church and our community! \nLearn more about the UMM!
URL:https://portagefaith.com/events/umm-breakfast-meeting-3/2026-03-08/
LOCATION:Portage Faith United Methodist Church\, 9922 State Route 44\, Mantua\, OH\, 44255\, United States
CATEGORIES:United Methodist Men
ATTACH;FMTTYPE=image/jpeg:https://portagefaith.com/wp-content/uploads/2023/11/UMC-Logo-PFC-UMM-Brkfst.jpg
END:VEVENT
BEGIN:VEVENT
DTSTART;VALUE=DATE:20260306
DTEND;VALUE=DATE:20260307
DTSTAMP:20260425T110135
CREATED:20231102T231125Z
LAST-MODIFIED:20231206T221455Z
UID:10000228-1772755200-1772841599@portagefaith.com
SUMMARY:Office Closed
DESCRIPTION:
URL:https://portagefaith.com/events/office-closed-16/2026-03-06/
LOCATION:Portage Faith United Methodist Church\, 9922 State Route 44\, Mantua\, OH\, 44255\, United States
CATEGORIES:Office Hours
ATTACH;FMTTYPE=image/jpeg:https://portagefaith.com/wp-content/uploads/2023/11/PF-drive-3.jpeg
ORGANIZER;CN="Portage Faith United Methodist Church":MAILTO:officeadmin@portagefaith.com
END:VEVENT
BEGIN:VEVENT
DTSTART;TZID=America/Detroit:20260305T100000
DTEND;TZID=America/Detroit:20260305T233000
DTSTAMP:20260425T110135
CREATED:20260128T191018Z
LAST-MODIFIED:20260128T191018Z
UID:10004019-1772704800-1772753400@portagefaith.com
SUMMARY:Lent Bible Study
DESCRIPTION:Pastor Bill will lead a 6-week Lenten Study Group\, Thursdays\, 10-11:30 am\, February 19-March 26\, 2026.  We’ll consider how loving our neighbors helps us deepen our love of God. Our time together will include discussion and sharing.
URL:https://portagefaith.com/events/lent-bible-study/2026-03-05/
LOCATION:Portage Faith United Methodist Church\, 9922 State Route 44\, Mantua\, OH\, 44255\, United States
CATEGORIES:Lenten Study
ATTACH;FMTTYPE=image/jpeg:https://portagefaith.com/wp-content/uploads/2025/09/study_6494c-scaled.jpg
ORGANIZER;CN="Pastor Bill Graham":MAILTO:Rev.Bill.Graham@gmail.com
END:VEVENT
BEGIN:VEVENT
DTSTART;TZID=America/Detroit:20260305T090000
DTEND;TZID=America/Detroit:20260305T110000
DTSTAMP:20260425T110135
CREATED:20231108T034122Z
LAST-MODIFIED:20231206T221550Z
UID:10000485-1772701200-1772708400@portagefaith.com
SUMMARY:Walk-In Office Hours
DESCRIPTION:Portage Faith Church Pastor Bill Graham holds Walk-In Office Hours on Tuesday and Thursday mornings from 9:00 – 11:00 am ET. \nPlease check the Announcements each week for any schedule conflict that may change Pastor Bill’s Walk-In Office Hours that week\, and please contact him in advance to make an appointment for other days/times.
URL:https://portagefaith.com/events/walk-in-office-hours-12/2026-03-05/
LOCATION:Portage Faith United Methodist Church\, 9922 State Route 44\, Mantua\, OH\, 44255\, United States
CATEGORIES:Office Hours
ATTACH;FMTTYPE=image/jpeg:https://portagefaith.com/wp-content/uploads/2023/10/PF-Bill-Office-Hrs-e1699542183796.jpg
ORGANIZER;CN="Pastor Bill Graham":MAILTO:Rev.Bill.Graham@gmail.com
END:VEVENT
BEGIN:VEVENT
DTSTART;TZID=America/Detroit:20260303T090000
DTEND;TZID=America/Detroit:20260303T110000
DTSTAMP:20260425T110135
CREATED:20231228T224707Z
LAST-MODIFIED:20231228T224709Z
UID:10001000-1772528400-1772535600@portagefaith.com
SUMMARY:Walk-In Office Hours
DESCRIPTION:Portage Faith Church Pastor Bill Graham holds Walk-In Office Hours on Tuesday and Thursday mornings from 9:00 – 11:00 am ET. \nPlease check the Announcements each week for any schedule conflict that may change Pastor Bill’s Walk-In Office Hours that week\, and please contact him in advance to make an appointment for other days/times.
URL:https://portagefaith.com/events/walk-in-office-hours-13-2/2026-03-03/
LOCATION:Portage Faith United Methodist Church\, 9922 State Route 44\, Mantua\, OH\, 44255\, United States
CATEGORIES:Office Hours
ATTACH;FMTTYPE=image/jpeg:https://portagefaith.com/wp-content/uploads/2023/10/PF-Bill-Office-Hrs-e1699542183796.jpg
ORGANIZER;CN="Pastor Bill Graham":MAILTO:Rev.Bill.Graham@gmail.com
END:VEVENT
BEGIN:VEVENT
DTSTART;VALUE=DATE:20260302
DTEND;VALUE=DATE:20260303
DTSTAMP:20260425T110135
CREATED:20231102T231256Z
LAST-MODIFIED:20231206T222249Z
UID:10001775-1772409600-1772495999@portagefaith.com
SUMMARY:Office Closed
DESCRIPTION:
URL:https://portagefaith.com/events/office-closed-18/2026-03-02/
LOCATION:Portage Faith United Methodist Church\, 9922 State Route 44\, Mantua\, OH\, 44255\, United States
CATEGORIES:Office Hours
ATTACH;FMTTYPE=image/jpeg:https://portagefaith.com/wp-content/uploads/2023/11/PF-Outside-pink-flowers-1.jpeg
ORGANIZER;CN="Portage Faith United Methodist Church":MAILTO:officeadmin@portagefaith.com
END:VEVENT
BEGIN:VEVENT
DTSTART;TZID=America/Detroit:20260301T093000
DTEND;TZID=America/Detroit:20260301T103000
DTSTAMP:20260425T110135
CREATED:20231207T181330Z
LAST-MODIFIED:20231208T154040Z
UID:10002032-1772357400-1772361000@portagefaith.com
SUMMARY:Worship Service
DESCRIPTION:Our Portage Faith Church Worship Service begins at 9:30 am every Sunday throughout the year. \nYou are always welcome here – please join us!
URL:https://portagefaith.com/events/worship-service-3/2026-03-01/
LOCATION:Portage Faith United Methodist Church\, 9922 State Route 44\, Mantua\, OH\, 44255\, United States
CATEGORIES:Worship
ATTACH;FMTTYPE=image/jpeg:https://portagefaith.com/wp-content/uploads/2023/11/PF-Events-Interior-Web.jpg
ORGANIZER;CN="Portage Faith United Methodist Church":MAILTO:officeadmin@portagefaith.com
END:VEVENT
BEGIN:VEVENT
DTSTART;VALUE=DATE:20260227
DTEND;VALUE=DATE:20260228
DTSTAMP:20260425T110135
CREATED:20231102T231125Z
LAST-MODIFIED:20231206T221455Z
UID:10000227-1772150400-1772236799@portagefaith.com
SUMMARY:Office Closed
DESCRIPTION:
URL:https://portagefaith.com/events/office-closed-16/2026-02-27/
LOCATION:Portage Faith United Methodist Church\, 9922 State Route 44\, Mantua\, OH\, 44255\, United States
CATEGORIES:Office Hours
ATTACH;FMTTYPE=image/jpeg:https://portagefaith.com/wp-content/uploads/2023/11/PF-drive-3.jpeg
ORGANIZER;CN="Portage Faith United Methodist Church":MAILTO:officeadmin@portagefaith.com
END:VEVENT
BEGIN:VEVENT
DTSTART;TZID=America/Detroit:20260226T100000
DTEND;TZID=America/Detroit:20260226T233000
DTSTAMP:20260425T110135
CREATED:20260128T191018Z
LAST-MODIFIED:20260128T191018Z
UID:10004018-1772100000-1772148600@portagefaith.com
SUMMARY:Lent Bible Study
DESCRIPTION:Pastor Bill will lead a 6-week Lenten Study Group\, Thursdays\, 10-11:30 am\, February 19-March 26\, 2026.  We’ll consider how loving our neighbors helps us deepen our love of God. Our time together will include discussion and sharing.
URL:https://portagefaith.com/events/lent-bible-study/2026-02-26/
LOCATION:Portage Faith United Methodist Church\, 9922 State Route 44\, Mantua\, OH\, 44255\, United States
CATEGORIES:Lenten Study
ATTACH;FMTTYPE=image/jpeg:https://portagefaith.com/wp-content/uploads/2025/09/study_6494c-scaled.jpg
ORGANIZER;CN="Pastor Bill Graham":MAILTO:Rev.Bill.Graham@gmail.com
END:VEVENT
BEGIN:VEVENT
DTSTART;TZID=America/Detroit:20260226T090000
DTEND;TZID=America/Detroit:20260226T110000
DTSTAMP:20260425T110135
CREATED:20231108T034122Z
LAST-MODIFIED:20231206T221550Z
UID:10000484-1772096400-1772103600@portagefaith.com
SUMMARY:Walk-In Office Hours
DESCRIPTION:Portage Faith Church Pastor Bill Graham holds Walk-In Office Hours on Tuesday and Thursday mornings from 9:00 – 11:00 am ET. \nPlease check the Announcements each week for any schedule conflict that may change Pastor Bill’s Walk-In Office Hours that week\, and please contact him in advance to make an appointment for other days/times.
URL:https://portagefaith.com/events/walk-in-office-hours-12/2026-02-26/
LOCATION:Portage Faith United Methodist Church\, 9922 State Route 44\, Mantua\, OH\, 44255\, United States
CATEGORIES:Office Hours
ATTACH;FMTTYPE=image/jpeg:https://portagefaith.com/wp-content/uploads/2023/10/PF-Bill-Office-Hrs-e1699542183796.jpg
ORGANIZER;CN="Pastor Bill Graham":MAILTO:Rev.Bill.Graham@gmail.com
END:VEVENT
BEGIN:VEVENT
DTSTART;TZID=America/Detroit:20260224T090000
DTEND;TZID=America/Detroit:20260224T110000
DTSTAMP:20260425T110135
CREATED:20231228T224707Z
LAST-MODIFIED:20231228T224709Z
UID:10000999-1771923600-1771930800@portagefaith.com
SUMMARY:Walk-In Office Hours
DESCRIPTION:Portage Faith Church Pastor Bill Graham holds Walk-In Office Hours on Tuesday and Thursday mornings from 9:00 – 11:00 am ET. \nPlease check the Announcements each week for any schedule conflict that may change Pastor Bill’s Walk-In Office Hours that week\, and please contact him in advance to make an appointment for other days/times.
URL:https://portagefaith.com/events/walk-in-office-hours-13-2/2026-02-24/
LOCATION:Portage Faith United Methodist Church\, 9922 State Route 44\, Mantua\, OH\, 44255\, United States
CATEGORIES:Office Hours
ATTACH;FMTTYPE=image/jpeg:https://portagefaith.com/wp-content/uploads/2023/10/PF-Bill-Office-Hrs-e1699542183796.jpg
ORGANIZER;CN="Pastor Bill Graham":MAILTO:Rev.Bill.Graham@gmail.com
END:VEVENT
BEGIN:VEVENT
DTSTART;VALUE=DATE:20260223
DTEND;VALUE=DATE:20260224
DTSTAMP:20260425T110135
CREATED:20231102T231256Z
LAST-MODIFIED:20231206T222249Z
UID:10001774-1771804800-1771891199@portagefaith.com
SUMMARY:Office Closed
DESCRIPTION:
URL:https://portagefaith.com/events/office-closed-18/2026-02-23/
LOCATION:Portage Faith United Methodist Church\, 9922 State Route 44\, Mantua\, OH\, 44255\, United States
CATEGORIES:Office Hours
ATTACH;FMTTYPE=image/jpeg:https://portagefaith.com/wp-content/uploads/2023/11/PF-Outside-pink-flowers-1.jpeg
ORGANIZER;CN="Portage Faith United Methodist Church":MAILTO:officeadmin@portagefaith.com
END:VEVENT
BEGIN:VEVENT
DTSTART;TZID=America/Detroit:20260222T093000
DTEND;TZID=America/Detroit:20260222T103000
DTSTAMP:20260425T110135
CREATED:20231207T181330Z
LAST-MODIFIED:20231208T154040Z
UID:10002031-1771752600-1771756200@portagefaith.com
SUMMARY:Worship Service
DESCRIPTION:Our Portage Faith Church Worship Service begins at 9:30 am every Sunday throughout the year. \nYou are always welcome here – please join us!
URL:https://portagefaith.com/events/worship-service-3/2026-02-22/
LOCATION:Portage Faith United Methodist Church\, 9922 State Route 44\, Mantua\, OH\, 44255\, United States
CATEGORIES:Worship
ATTACH;FMTTYPE=image/jpeg:https://portagefaith.com/wp-content/uploads/2023/11/PF-Events-Interior-Web.jpg
ORGANIZER;CN="Portage Faith United Methodist Church":MAILTO:officeadmin@portagefaith.com
END:VEVENT
BEGIN:VEVENT
DTSTART;TZID=America/Detroit:20260222T080000
DTEND;TZID=America/Detroit:20260222T090000
DTSTAMP:20260425T110135
CREATED:20240925T185433Z
LAST-MODIFIED:20260128T193335Z
UID:10004026-1771747200-1771750800@portagefaith.com
SUMMARY:UWF Breakfast Meeting
DESCRIPTION:
URL:https://portagefaith.com/events/uwf-breakfast-meeting-2/2026-02-22/
LOCATION:Portage Faith United Methodist Church\, 9922 State Route 44\, Mantua\, OH\, 44255\, United States
CATEGORIES:Committees,United Women in Faith
ORGANIZER;CN="United Women in Faith":MAILTO:pfumcoffice@gmail.com
END:VEVENT
BEGIN:VEVENT
DTSTART;VALUE=DATE:20260220
DTEND;VALUE=DATE:20260221
DTSTAMP:20260425T110135
CREATED:20231102T231125Z
LAST-MODIFIED:20231206T221455Z
UID:10000226-1771545600-1771631999@portagefaith.com
SUMMARY:Office Closed
DESCRIPTION:
URL:https://portagefaith.com/events/office-closed-16/2026-02-20/
LOCATION:Portage Faith United Methodist Church\, 9922 State Route 44\, Mantua\, OH\, 44255\, United States
CATEGORIES:Office Hours
ATTACH;FMTTYPE=image/jpeg:https://portagefaith.com/wp-content/uploads/2023/11/PF-drive-3.jpeg
ORGANIZER;CN="Portage Faith United Methodist Church":MAILTO:officeadmin@portagefaith.com
END:VEVENT
BEGIN:VEVENT
DTSTART;TZID=America/Detroit:20260219T100000
DTEND;TZID=America/Detroit:20260219T233000
DTSTAMP:20260425T110135
CREATED:20260128T191018Z
LAST-MODIFIED:20260128T191018Z
UID:10004017-1771495200-1771543800@portagefaith.com
SUMMARY:Lent Bible Study
DESCRIPTION:Pastor Bill will lead a 6-week Lenten Study Group\, Thursdays\, 10-11:30 am\, February 19-March 26\, 2026.  We’ll consider how loving our neighbors helps us deepen our love of God. Our time together will include discussion and sharing.
URL:https://portagefaith.com/events/lent-bible-study/2026-02-19/
LOCATION:Portage Faith United Methodist Church\, 9922 State Route 44\, Mantua\, OH\, 44255\, United States
CATEGORIES:Lenten Study
ATTACH;FMTTYPE=image/jpeg:https://portagefaith.com/wp-content/uploads/2025/09/study_6494c-scaled.jpg
ORGANIZER;CN="Pastor Bill Graham":MAILTO:Rev.Bill.Graham@gmail.com
END:VEVENT
END:VCALENDAR