BEGIN:VCALENDAR
VERSION:2.0
PRODID:-//Portage Faith United Methodist Church - ECPv6.15.15//NONSGML v1.0//EN
CALSCALE:GREGORIAN
METHOD:PUBLISH
X-WR-CALNAME:Portage Faith United Methodist Church
X-ORIGINAL-URL:https://portagefaith.com
X-WR-CALDESC:Events for Portage Faith United Methodist Church
REFRESH-INTERVAL;VALUE=DURATION:PT1H
X-Robots-Tag:noindex
X-PUBLISHED-TTL:PT1H
BEGIN:VTIMEZONE
TZID:America/Detroit
BEGIN:DAYLIGHT
TZOFFSETFROM:-0500
TZOFFSETTO:-0400
TZNAME:EDT
DTSTART:20240310T070000
END:DAYLIGHT
BEGIN:STANDARD
TZOFFSETFROM:-0400
TZOFFSETTO:-0500
TZNAME:EST
DTSTART:20241103T060000
END:STANDARD
BEGIN:DAYLIGHT
TZOFFSETFROM:-0500
TZOFFSETTO:-0400
TZNAME:EDT
DTSTART:20250309T070000
END:DAYLIGHT
BEGIN:STANDARD
TZOFFSETFROM:-0400
TZOFFSETTO:-0500
TZNAME:EST
DTSTART:20251102T060000
END:STANDARD
BEGIN:DAYLIGHT
TZOFFSETFROM:-0500
TZOFFSETTO:-0400
TZNAME:EDT
DTSTART:20260308T070000
END:DAYLIGHT
BEGIN:STANDARD
TZOFFSETFROM:-0400
TZOFFSETTO:-0500
TZNAME:EST
DTSTART:20261101T060000
END:STANDARD
BEGIN:DAYLIGHT
TZOFFSETFROM:-0500
TZOFFSETTO:-0400
TZNAME:EDT
DTSTART:20270314T070000
END:DAYLIGHT
BEGIN:STANDARD
TZOFFSETFROM:-0400
TZOFFSETTO:-0500
TZNAME:EST
DTSTART:20271107T060000
END:STANDARD
END:VTIMEZONE
BEGIN:VEVENT
DTSTART;TZID=America/Detroit:20260113T100000
DTEND;TZID=America/Detroit:20260113T100000
DTSTAMP:20260425T073244
CREATED:20240116T210027Z
LAST-MODIFIED:20240206T190225Z
UID:10002287-1768298400-1768298400@portagefaith.com
SUMMARY:Book Club
DESCRIPTION:Everyone who loves to read is welcome to participate in the Portage Faith UMC Book Club. \nWe meet on the second Tuesday of each month in the library at 10:00 am. \nHope to see you soon! \n  \n 
URL:https://portagefaith.com/events/book-club/2026-01-13/
LOCATION:Portage Faith United Methodist Church\, 9922 State Route 44\, Mantua\, OH\, 44255\, United States
CATEGORIES:Book Club
ATTACH;FMTTYPE=image/jpeg:https://portagefaith.com/wp-content/uploads/2024/01/PF-BookClub-2024-Web.jpg
ORGANIZER;CN="Portage Faith United Methodist Church":MAILTO:officeadmin@portagefaith.com
END:VEVENT
BEGIN:VEVENT
DTSTART;TZID=America/Detroit:20260113T090000
DTEND;TZID=America/Detroit:20260113T110000
DTSTAMP:20260425T073244
CREATED:20231228T224707Z
LAST-MODIFIED:20231228T224709Z
UID:10000993-1768294800-1768302000@portagefaith.com
SUMMARY:Walk-In Office Hours
DESCRIPTION:Portage Faith Church Pastor Bill Graham holds Walk-In Office Hours on Tuesday and Thursday mornings from 9:00 – 11:00 am ET. \nPlease check the Announcements each week for any schedule conflict that may change Pastor Bill’s Walk-In Office Hours that week\, and please contact him in advance to make an appointment for other days/times.
URL:https://portagefaith.com/events/walk-in-office-hours-13-2/2026-01-13/
LOCATION:Portage Faith United Methodist Church\, 9922 State Route 44\, Mantua\, OH\, 44255\, United States
CATEGORIES:Office Hours
ATTACH;FMTTYPE=image/jpeg:https://portagefaith.com/wp-content/uploads/2023/10/PF-Bill-Office-Hrs-e1699542183796.jpg
ORGANIZER;CN="Pastor Bill Graham":MAILTO:Rev.Bill.Graham@gmail.com
END:VEVENT
BEGIN:VEVENT
DTSTART;VALUE=DATE:20260112
DTEND;VALUE=DATE:20260113
DTSTAMP:20260425T073244
CREATED:20231102T231256Z
LAST-MODIFIED:20231206T222249Z
UID:10001768-1768176000-1768262399@portagefaith.com
SUMMARY:Office Closed
DESCRIPTION:
URL:https://portagefaith.com/events/office-closed-18/2026-01-12/
LOCATION:Portage Faith United Methodist Church\, 9922 State Route 44\, Mantua\, OH\, 44255\, United States
CATEGORIES:Office Hours
ATTACH;FMTTYPE=image/jpeg:https://portagefaith.com/wp-content/uploads/2023/11/PF-Outside-pink-flowers-1.jpeg
ORGANIZER;CN="Portage Faith United Methodist Church":MAILTO:officeadmin@portagefaith.com
END:VEVENT
BEGIN:VEVENT
DTSTART;TZID=America/Detroit:20260111T093000
DTEND;TZID=America/Detroit:20260111T103000
DTSTAMP:20260425T073244
CREATED:20231207T181330Z
LAST-MODIFIED:20231208T154040Z
UID:10002025-1768123800-1768127400@portagefaith.com
SUMMARY:Worship Service
DESCRIPTION:Our Portage Faith Church Worship Service begins at 9:30 am every Sunday throughout the year. \nYou are always welcome here – please join us!
URL:https://portagefaith.com/events/worship-service-3/2026-01-11/
LOCATION:Portage Faith United Methodist Church\, 9922 State Route 44\, Mantua\, OH\, 44255\, United States
CATEGORIES:Worship
ATTACH;FMTTYPE=image/jpeg:https://portagefaith.com/wp-content/uploads/2023/11/PF-Events-Interior-Web.jpg
ORGANIZER;CN="Portage Faith United Methodist Church":MAILTO:officeadmin@portagefaith.com
END:VEVENT
BEGIN:VEVENT
DTSTART;TZID=America/Detroit:20260111T073000
DTEND;TZID=America/Detroit:20260111T073000
DTSTAMP:20260425T073244
CREATED:20240220T181815Z
LAST-MODIFIED:20260307T162741Z
UID:10002405-1768116600-1768116600@portagefaith.com
SUMMARY:UMM Breakfast Meeting
DESCRIPTION:The Portage Faith United Methodist Men (UMM) will hold a Breakfast Meeting in our Blue Room today at 7:30 am. All men are welcome to attend. \nLearn more and ask questions about our long- and short-term projects to help the church and our community! \nLearn more about the UMM!
URL:https://portagefaith.com/events/umm-breakfast-meeting-3/2026-01-11/
LOCATION:Portage Faith United Methodist Church\, 9922 State Route 44\, Mantua\, OH\, 44255\, United States
CATEGORIES:United Methodist Men
ATTACH;FMTTYPE=image/jpeg:https://portagefaith.com/wp-content/uploads/2023/11/UMC-Logo-PFC-UMM-Brkfst.jpg
END:VEVENT
BEGIN:VEVENT
DTSTART;VALUE=DATE:20260109
DTEND;VALUE=DATE:20260110
DTSTAMP:20260425T073244
CREATED:20231102T231125Z
LAST-MODIFIED:20231206T221455Z
UID:10000220-1767916800-1768003199@portagefaith.com
SUMMARY:Office Closed
DESCRIPTION:
URL:https://portagefaith.com/events/office-closed-16/2026-01-09/
LOCATION:Portage Faith United Methodist Church\, 9922 State Route 44\, Mantua\, OH\, 44255\, United States
CATEGORIES:Office Hours
ATTACH;FMTTYPE=image/jpeg:https://portagefaith.com/wp-content/uploads/2023/11/PF-drive-3.jpeg
ORGANIZER;CN="Portage Faith United Methodist Church":MAILTO:officeadmin@portagefaith.com
END:VEVENT
BEGIN:VEVENT
DTSTART;TZID=America/Detroit:20260108T190000
DTEND;TZID=America/Detroit:20260108T193000
DTSTAMP:20260425T073244
CREATED:20250610T162003Z
LAST-MODIFIED:20260128T182944Z
UID:10003792-1767898800-1767900600@portagefaith.com
SUMMARY:Trustees Meeting
DESCRIPTION:The Trustees of Portage Faith Church UMC in Mantua\, Ohio\, meet every other month on the second Thursday (immediately following the Finance Committee meeting) at 7:00 pm.
URL:https://portagefaith.com/events/trustees-meeting-3/2026-01-08/
LOCATION:Portage Faith United Methodist Church\, 9922 State Route 44\, Mantua\, OH\, 44255\, United States
CATEGORIES:Committees
ATTACH;FMTTYPE=image/jpeg:https://portagefaith.com/wp-content/uploads/2023/11/PF-sign-welcome-web.jpg
END:VEVENT
BEGIN:VEVENT
DTSTART;TZID=America/Detroit:20260108T183000
DTEND;TZID=America/Detroit:20260108T190000
DTSTAMP:20260425T073244
CREATED:20250610T155837Z
LAST-MODIFIED:20260128T181817Z
UID:10003784-1767897000-1767898800@portagefaith.com
SUMMARY:Finance Meeting
DESCRIPTION:The Portage Faith Church Finance Committee will meet in Goodell Hall at 6:30 pm.  The meeting is open to anyone interested.
URL:https://portagefaith.com/events/finance-meeting-3/2026-01-08/
LOCATION:Portage Faith United Methodist Church\, 9922 State Route 44\, Mantua\, OH\, 44255\, United States
CATEGORIES:Committees
ATTACH;FMTTYPE=image/jpeg:https://portagefaith.com/wp-content/uploads/2023/11/UMC-Mtg-Church-Distance.jpg
END:VEVENT
BEGIN:VEVENT
DTSTART;TZID=America/Detroit:20260108T090000
DTEND;TZID=America/Detroit:20260108T110000
DTSTAMP:20260425T073244
CREATED:20231108T034122Z
LAST-MODIFIED:20231206T221550Z
UID:10000477-1767862800-1767870000@portagefaith.com
SUMMARY:Walk-In Office Hours
DESCRIPTION:Portage Faith Church Pastor Bill Graham holds Walk-In Office Hours on Tuesday and Thursday mornings from 9:00 – 11:00 am ET. \nPlease check the Announcements each week for any schedule conflict that may change Pastor Bill’s Walk-In Office Hours that week\, and please contact him in advance to make an appointment for other days/times.
URL:https://portagefaith.com/events/walk-in-office-hours-12/2026-01-08/
LOCATION:Portage Faith United Methodist Church\, 9922 State Route 44\, Mantua\, OH\, 44255\, United States
CATEGORIES:Office Hours
ATTACH;FMTTYPE=image/jpeg:https://portagefaith.com/wp-content/uploads/2023/10/PF-Bill-Office-Hrs-e1699542183796.jpg
ORGANIZER;CN="Pastor Bill Graham":MAILTO:Rev.Bill.Graham@gmail.com
END:VEVENT
BEGIN:VEVENT
DTSTART;TZID=America/Detroit:20260106T090000
DTEND;TZID=America/Detroit:20260106T110000
DTSTAMP:20260425T073244
CREATED:20231228T224707Z
LAST-MODIFIED:20231228T224709Z
UID:10000992-1767690000-1767697200@portagefaith.com
SUMMARY:Walk-In Office Hours
DESCRIPTION:Portage Faith Church Pastor Bill Graham holds Walk-In Office Hours on Tuesday and Thursday mornings from 9:00 – 11:00 am ET. \nPlease check the Announcements each week for any schedule conflict that may change Pastor Bill’s Walk-In Office Hours that week\, and please contact him in advance to make an appointment for other days/times.
URL:https://portagefaith.com/events/walk-in-office-hours-13-2/2026-01-06/
LOCATION:Portage Faith United Methodist Church\, 9922 State Route 44\, Mantua\, OH\, 44255\, United States
CATEGORIES:Office Hours
ATTACH;FMTTYPE=image/jpeg:https://portagefaith.com/wp-content/uploads/2023/10/PF-Bill-Office-Hrs-e1699542183796.jpg
ORGANIZER;CN="Pastor Bill Graham":MAILTO:Rev.Bill.Graham@gmail.com
END:VEVENT
BEGIN:VEVENT
DTSTART;VALUE=DATE:20260105
DTEND;VALUE=DATE:20260106
DTSTAMP:20260425T073244
CREATED:20231102T231256Z
LAST-MODIFIED:20231206T222249Z
UID:10001767-1767571200-1767657599@portagefaith.com
SUMMARY:Office Closed
DESCRIPTION:
URL:https://portagefaith.com/events/office-closed-18/2026-01-05/
LOCATION:Portage Faith United Methodist Church\, 9922 State Route 44\, Mantua\, OH\, 44255\, United States
CATEGORIES:Office Hours
ATTACH;FMTTYPE=image/jpeg:https://portagefaith.com/wp-content/uploads/2023/11/PF-Outside-pink-flowers-1.jpeg
ORGANIZER;CN="Portage Faith United Methodist Church":MAILTO:officeadmin@portagefaith.com
END:VEVENT
BEGIN:VEVENT
DTSTART;TZID=America/Detroit:20260104T093000
DTEND;TZID=America/Detroit:20260104T103000
DTSTAMP:20260425T073244
CREATED:20231207T181330Z
LAST-MODIFIED:20231208T154040Z
UID:10002024-1767519000-1767522600@portagefaith.com
SUMMARY:Worship Service
DESCRIPTION:Our Portage Faith Church Worship Service begins at 9:30 am every Sunday throughout the year. \nYou are always welcome here – please join us!
URL:https://portagefaith.com/events/worship-service-3/2026-01-04/
LOCATION:Portage Faith United Methodist Church\, 9922 State Route 44\, Mantua\, OH\, 44255\, United States
CATEGORIES:Worship
ATTACH;FMTTYPE=image/jpeg:https://portagefaith.com/wp-content/uploads/2023/11/PF-Events-Interior-Web.jpg
ORGANIZER;CN="Portage Faith United Methodist Church":MAILTO:officeadmin@portagefaith.com
END:VEVENT
BEGIN:VEVENT
DTSTART;VALUE=DATE:20260102
DTEND;VALUE=DATE:20260103
DTSTAMP:20260425T073244
CREATED:20231102T231125Z
LAST-MODIFIED:20231206T221455Z
UID:10000219-1767312000-1767398399@portagefaith.com
SUMMARY:Office Closed
DESCRIPTION:
URL:https://portagefaith.com/events/office-closed-16/2026-01-02/
LOCATION:Portage Faith United Methodist Church\, 9922 State Route 44\, Mantua\, OH\, 44255\, United States
CATEGORIES:Office Hours
ATTACH;FMTTYPE=image/jpeg:https://portagefaith.com/wp-content/uploads/2023/11/PF-drive-3.jpeg
ORGANIZER;CN="Portage Faith United Methodist Church":MAILTO:officeadmin@portagefaith.com
END:VEVENT
BEGIN:VEVENT
DTSTART;TZID=America/Detroit:20260101T090000
DTEND;TZID=America/Detroit:20260101T110000
DTSTAMP:20260425T073244
CREATED:20231108T034122Z
LAST-MODIFIED:20231206T221550Z
UID:10000476-1767258000-1767265200@portagefaith.com
SUMMARY:Walk-In Office Hours
DESCRIPTION:Portage Faith Church Pastor Bill Graham holds Walk-In Office Hours on Tuesday and Thursday mornings from 9:00 – 11:00 am ET. \nPlease check the Announcements each week for any schedule conflict that may change Pastor Bill’s Walk-In Office Hours that week\, and please contact him in advance to make an appointment for other days/times.
URL:https://portagefaith.com/events/walk-in-office-hours-12/2026-01-01/
LOCATION:Portage Faith United Methodist Church\, 9922 State Route 44\, Mantua\, OH\, 44255\, United States
CATEGORIES:Office Hours
ATTACH;FMTTYPE=image/jpeg:https://portagefaith.com/wp-content/uploads/2023/10/PF-Bill-Office-Hrs-e1699542183796.jpg
ORGANIZER;CN="Pastor Bill Graham":MAILTO:Rev.Bill.Graham@gmail.com
END:VEVENT
BEGIN:VEVENT
DTSTART;TZID=America/Detroit:20251230T090000
DTEND;TZID=America/Detroit:20251230T110000
DTSTAMP:20260425T073244
CREATED:20231228T224707Z
LAST-MODIFIED:20231228T224709Z
UID:10000991-1767085200-1767092400@portagefaith.com
SUMMARY:Walk-In Office Hours
DESCRIPTION:Portage Faith Church Pastor Bill Graham holds Walk-In Office Hours on Tuesday and Thursday mornings from 9:00 – 11:00 am ET. \nPlease check the Announcements each week for any schedule conflict that may change Pastor Bill’s Walk-In Office Hours that week\, and please contact him in advance to make an appointment for other days/times.
URL:https://portagefaith.com/events/walk-in-office-hours-13-2/2025-12-30/
LOCATION:Portage Faith United Methodist Church\, 9922 State Route 44\, Mantua\, OH\, 44255\, United States
CATEGORIES:Office Hours
ATTACH;FMTTYPE=image/jpeg:https://portagefaith.com/wp-content/uploads/2023/10/PF-Bill-Office-Hrs-e1699542183796.jpg
ORGANIZER;CN="Pastor Bill Graham":MAILTO:Rev.Bill.Graham@gmail.com
END:VEVENT
BEGIN:VEVENT
DTSTART;VALUE=DATE:20251229
DTEND;VALUE=DATE:20251230
DTSTAMP:20260425T073244
CREATED:20231102T231256Z
LAST-MODIFIED:20231206T222249Z
UID:10001766-1766966400-1767052799@portagefaith.com
SUMMARY:Office Closed
DESCRIPTION:
URL:https://portagefaith.com/events/office-closed-18/2025-12-29/
LOCATION:Portage Faith United Methodist Church\, 9922 State Route 44\, Mantua\, OH\, 44255\, United States
CATEGORIES:Office Hours
ATTACH;FMTTYPE=image/jpeg:https://portagefaith.com/wp-content/uploads/2023/11/PF-Outside-pink-flowers-1.jpeg
ORGANIZER;CN="Portage Faith United Methodist Church":MAILTO:officeadmin@portagefaith.com
END:VEVENT
BEGIN:VEVENT
DTSTART;TZID=America/Detroit:20251228T093000
DTEND;TZID=America/Detroit:20251228T103000
DTSTAMP:20260425T073244
CREATED:20231207T181330Z
LAST-MODIFIED:20231208T154040Z
UID:10002023-1766914200-1766917800@portagefaith.com
SUMMARY:Worship Service
DESCRIPTION:Our Portage Faith Church Worship Service begins at 9:30 am every Sunday throughout the year. \nYou are always welcome here – please join us!
URL:https://portagefaith.com/events/worship-service-3/2025-12-28/
LOCATION:Portage Faith United Methodist Church\, 9922 State Route 44\, Mantua\, OH\, 44255\, United States
CATEGORIES:Worship
ATTACH;FMTTYPE=image/jpeg:https://portagefaith.com/wp-content/uploads/2023/11/PF-Events-Interior-Web.jpg
ORGANIZER;CN="Portage Faith United Methodist Church":MAILTO:officeadmin@portagefaith.com
END:VEVENT
BEGIN:VEVENT
DTSTART;VALUE=DATE:20251226
DTEND;VALUE=DATE:20251227
DTSTAMP:20260425T073244
CREATED:20231102T231125Z
LAST-MODIFIED:20231206T221455Z
UID:10000218-1766707200-1766793599@portagefaith.com
SUMMARY:Office Closed
DESCRIPTION:
URL:https://portagefaith.com/events/office-closed-16/2025-12-26/
LOCATION:Portage Faith United Methodist Church\, 9922 State Route 44\, Mantua\, OH\, 44255\, United States
CATEGORIES:Office Hours
ATTACH;FMTTYPE=image/jpeg:https://portagefaith.com/wp-content/uploads/2023/11/PF-drive-3.jpeg
ORGANIZER;CN="Portage Faith United Methodist Church":MAILTO:officeadmin@portagefaith.com
END:VEVENT
BEGIN:VEVENT
DTSTART;TZID=America/Detroit:20251225T090000
DTEND;TZID=America/Detroit:20251225T110000
DTSTAMP:20260425T073244
CREATED:20231108T034122Z
LAST-MODIFIED:20231206T221550Z
UID:10000475-1766653200-1766660400@portagefaith.com
SUMMARY:Walk-In Office Hours
DESCRIPTION:Portage Faith Church Pastor Bill Graham holds Walk-In Office Hours on Tuesday and Thursday mornings from 9:00 – 11:00 am ET. \nPlease check the Announcements each week for any schedule conflict that may change Pastor Bill’s Walk-In Office Hours that week\, and please contact him in advance to make an appointment for other days/times.
URL:https://portagefaith.com/events/walk-in-office-hours-12/2025-12-25/
LOCATION:Portage Faith United Methodist Church\, 9922 State Route 44\, Mantua\, OH\, 44255\, United States
CATEGORIES:Office Hours
ATTACH;FMTTYPE=image/jpeg:https://portagefaith.com/wp-content/uploads/2023/10/PF-Bill-Office-Hrs-e1699542183796.jpg
ORGANIZER;CN="Pastor Bill Graham":MAILTO:Rev.Bill.Graham@gmail.com
END:VEVENT
BEGIN:VEVENT
DTSTART;TZID=America/Detroit:20251224T190000
DTEND;TZID=America/Detroit:20251224T200000
DTSTAMP:20260425T073244
CREATED:20251125T190225Z
LAST-MODIFIED:20251125T190225Z
UID:10003701-1766602800-1766606400@portagefaith.com
SUMMARY:Christmas Eve
DESCRIPTION:Join us for Christmas Eve worship at 7:00 pm.  We’ll share the warmth and peace of the Holy Christmas gift to us\, Jesus Christ.
URL:https://portagefaith.com/events/christmas-eve/
LOCATION:Portage Faith United Methodist Church\, 9922 State Route 44\, Mantua\, OH\, 44255\, United States
CATEGORIES:Christmas Eve Worship,Holiday,Worship
ATTACH;FMTTYPE=image/jpeg:https://portagefaith.com/wp-content/uploads/2025/11/candle_30626c-scaled.jpg
ORGANIZER;CN="Portage Faith United Methodist Church":MAILTO:officeadmin@portagefaith.com
END:VEVENT
BEGIN:VEVENT
DTSTART;TZID=America/Detroit:20251223T090000
DTEND;TZID=America/Detroit:20251223T110000
DTSTAMP:20260425T073244
CREATED:20231228T224707Z
LAST-MODIFIED:20231228T224709Z
UID:10000990-1766480400-1766487600@portagefaith.com
SUMMARY:Walk-In Office Hours
DESCRIPTION:Portage Faith Church Pastor Bill Graham holds Walk-In Office Hours on Tuesday and Thursday mornings from 9:00 – 11:00 am ET. \nPlease check the Announcements each week for any schedule conflict that may change Pastor Bill’s Walk-In Office Hours that week\, and please contact him in advance to make an appointment for other days/times.
URL:https://portagefaith.com/events/walk-in-office-hours-13-2/2025-12-23/
LOCATION:Portage Faith United Methodist Church\, 9922 State Route 44\, Mantua\, OH\, 44255\, United States
CATEGORIES:Office Hours
ATTACH;FMTTYPE=image/jpeg:https://portagefaith.com/wp-content/uploads/2023/10/PF-Bill-Office-Hrs-e1699542183796.jpg
ORGANIZER;CN="Pastor Bill Graham":MAILTO:Rev.Bill.Graham@gmail.com
END:VEVENT
BEGIN:VEVENT
DTSTART;VALUE=DATE:20251222
DTEND;VALUE=DATE:20251223
DTSTAMP:20260425T073244
CREATED:20231102T231256Z
LAST-MODIFIED:20231206T222249Z
UID:10001765-1766361600-1766447999@portagefaith.com
SUMMARY:Office Closed
DESCRIPTION:
URL:https://portagefaith.com/events/office-closed-18/2025-12-22/
LOCATION:Portage Faith United Methodist Church\, 9922 State Route 44\, Mantua\, OH\, 44255\, United States
CATEGORIES:Office Hours
ATTACH;FMTTYPE=image/jpeg:https://portagefaith.com/wp-content/uploads/2023/11/PF-Outside-pink-flowers-1.jpeg
ORGANIZER;CN="Portage Faith United Methodist Church":MAILTO:officeadmin@portagefaith.com
END:VEVENT
BEGIN:VEVENT
DTSTART;TZID=America/Detroit:20251221T093000
DTEND;TZID=America/Detroit:20251221T103000
DTSTAMP:20260425T073244
CREATED:20251125T181223Z
LAST-MODIFIED:20251125T185617Z
UID:10003700-1766309400-1766313000@portagefaith.com
SUMMARY:Youth Christmas Program
DESCRIPTION:Join us for the Children’s Christmas program. \nIt’s always a rewarding and fun time when the children of the church have their Christmas program.
URL:https://portagefaith.com/events/youth-christmas-program/
LOCATION:Portage Faith United Methodist Church\, 9922 State Route 44\, Mantua\, OH\, 44255\, United States
CATEGORIES:Community,Worship,Youth Group
END:VEVENT
BEGIN:VEVENT
DTSTART;TZID=America/Detroit:20251221T093000
DTEND;TZID=America/Detroit:20251221T103000
DTSTAMP:20260425T073244
CREATED:20231207T181330Z
LAST-MODIFIED:20231208T154040Z
UID:10002022-1766309400-1766313000@portagefaith.com
SUMMARY:Worship Service
DESCRIPTION:Our Portage Faith Church Worship Service begins at 9:30 am every Sunday throughout the year. \nYou are always welcome here – please join us!
URL:https://portagefaith.com/events/worship-service-3/2025-12-21/
LOCATION:Portage Faith United Methodist Church\, 9922 State Route 44\, Mantua\, OH\, 44255\, United States
CATEGORIES:Worship
ATTACH;FMTTYPE=image/jpeg:https://portagefaith.com/wp-content/uploads/2023/11/PF-Events-Interior-Web.jpg
ORGANIZER;CN="Portage Faith United Methodist Church":MAILTO:officeadmin@portagefaith.com
END:VEVENT
BEGIN:VEVENT
DTSTART;VALUE=DATE:20251219
DTEND;VALUE=DATE:20251220
DTSTAMP:20260425T073244
CREATED:20231102T231125Z
LAST-MODIFIED:20231206T221455Z
UID:10000217-1766102400-1766188799@portagefaith.com
SUMMARY:Office Closed
DESCRIPTION:
URL:https://portagefaith.com/events/office-closed-16/2025-12-19/
LOCATION:Portage Faith United Methodist Church\, 9922 State Route 44\, Mantua\, OH\, 44255\, United States
CATEGORIES:Office Hours
ATTACH;FMTTYPE=image/jpeg:https://portagefaith.com/wp-content/uploads/2023/11/PF-drive-3.jpeg
ORGANIZER;CN="Portage Faith United Methodist Church":MAILTO:officeadmin@portagefaith.com
END:VEVENT
BEGIN:VEVENT
DTSTART;TZID=America/Detroit:20251218T090000
DTEND;TZID=America/Detroit:20251218T110000
DTSTAMP:20260425T073244
CREATED:20231108T034122Z
LAST-MODIFIED:20231206T221550Z
UID:10000474-1766048400-1766055600@portagefaith.com
SUMMARY:Walk-In Office Hours
DESCRIPTION:Portage Faith Church Pastor Bill Graham holds Walk-In Office Hours on Tuesday and Thursday mornings from 9:00 – 11:00 am ET. \nPlease check the Announcements each week for any schedule conflict that may change Pastor Bill’s Walk-In Office Hours that week\, and please contact him in advance to make an appointment for other days/times.
URL:https://portagefaith.com/events/walk-in-office-hours-12/2025-12-18/
LOCATION:Portage Faith United Methodist Church\, 9922 State Route 44\, Mantua\, OH\, 44255\, United States
CATEGORIES:Office Hours
ATTACH;FMTTYPE=image/jpeg:https://portagefaith.com/wp-content/uploads/2023/10/PF-Bill-Office-Hrs-e1699542183796.jpg
ORGANIZER;CN="Pastor Bill Graham":MAILTO:Rev.Bill.Graham@gmail.com
END:VEVENT
BEGIN:VEVENT
DTSTART;TZID=America/Detroit:20251216T090000
DTEND;TZID=America/Detroit:20251216T110000
DTSTAMP:20260425T073244
CREATED:20231228T224707Z
LAST-MODIFIED:20231228T224709Z
UID:10000989-1765875600-1765882800@portagefaith.com
SUMMARY:Walk-In Office Hours
DESCRIPTION:Portage Faith Church Pastor Bill Graham holds Walk-In Office Hours on Tuesday and Thursday mornings from 9:00 – 11:00 am ET. \nPlease check the Announcements each week for any schedule conflict that may change Pastor Bill’s Walk-In Office Hours that week\, and please contact him in advance to make an appointment for other days/times.
URL:https://portagefaith.com/events/walk-in-office-hours-13-2/2025-12-16/
LOCATION:Portage Faith United Methodist Church\, 9922 State Route 44\, Mantua\, OH\, 44255\, United States
CATEGORIES:Office Hours
ATTACH;FMTTYPE=image/jpeg:https://portagefaith.com/wp-content/uploads/2023/10/PF-Bill-Office-Hrs-e1699542183796.jpg
ORGANIZER;CN="Pastor Bill Graham":MAILTO:Rev.Bill.Graham@gmail.com
END:VEVENT
BEGIN:VEVENT
DTSTART;VALUE=DATE:20251215
DTEND;VALUE=DATE:20251216
DTSTAMP:20260425T073244
CREATED:20231102T231256Z
LAST-MODIFIED:20231206T222249Z
UID:10001764-1765756800-1765843199@portagefaith.com
SUMMARY:Office Closed
DESCRIPTION:
URL:https://portagefaith.com/events/office-closed-18/2025-12-15/
LOCATION:Portage Faith United Methodist Church\, 9922 State Route 44\, Mantua\, OH\, 44255\, United States
CATEGORIES:Office Hours
ATTACH;FMTTYPE=image/jpeg:https://portagefaith.com/wp-content/uploads/2023/11/PF-Outside-pink-flowers-1.jpeg
ORGANIZER;CN="Portage Faith United Methodist Church":MAILTO:officeadmin@portagefaith.com
END:VEVENT
BEGIN:VEVENT
DTSTART;TZID=America/Detroit:20251214T093000
DTEND;TZID=America/Detroit:20251214T103000
DTSTAMP:20260425T073244
CREATED:20231207T181330Z
LAST-MODIFIED:20231208T154040Z
UID:10002021-1765704600-1765708200@portagefaith.com
SUMMARY:Worship Service
DESCRIPTION:Our Portage Faith Church Worship Service begins at 9:30 am every Sunday throughout the year. \nYou are always welcome here – please join us!
URL:https://portagefaith.com/events/worship-service-3/2025-12-14/
LOCATION:Portage Faith United Methodist Church\, 9922 State Route 44\, Mantua\, OH\, 44255\, United States
CATEGORIES:Worship
ATTACH;FMTTYPE=image/jpeg:https://portagefaith.com/wp-content/uploads/2023/11/PF-Events-Interior-Web.jpg
ORGANIZER;CN="Portage Faith United Methodist Church":MAILTO:officeadmin@portagefaith.com
END:VEVENT
BEGIN:VEVENT
DTSTART;TZID=America/Detroit:20251214T073000
DTEND;TZID=America/Detroit:20251214T073000
DTSTAMP:20260425T073244
CREATED:20240220T181815Z
LAST-MODIFIED:20260307T162741Z
UID:10002404-1765697400-1765697400@portagefaith.com
SUMMARY:UMM Breakfast Meeting
DESCRIPTION:The Portage Faith United Methodist Men (UMM) will hold a Breakfast Meeting in our Blue Room today at 7:30 am. All men are welcome to attend. \nLearn more and ask questions about our long- and short-term projects to help the church and our community! \nLearn more about the UMM!
URL:https://portagefaith.com/events/umm-breakfast-meeting-3/2025-12-14/
LOCATION:Portage Faith United Methodist Church\, 9922 State Route 44\, Mantua\, OH\, 44255\, United States
CATEGORIES:United Methodist Men
ATTACH;FMTTYPE=image/jpeg:https://portagefaith.com/wp-content/uploads/2023/11/UMC-Logo-PFC-UMM-Brkfst.jpg
END:VEVENT
END:VCALENDAR