BEGIN:VCALENDAR
VERSION:2.0
PRODID:-//Portage Faith United Methodist Church - ECPv6.15.15//NONSGML v1.0//EN
CALSCALE:GREGORIAN
METHOD:PUBLISH
X-WR-CALNAME:Portage Faith United Methodist Church
X-ORIGINAL-URL:https://portagefaith.com
X-WR-CALDESC:Events for Portage Faith United Methodist Church
REFRESH-INTERVAL;VALUE=DURATION:PT1H
X-Robots-Tag:noindex
X-PUBLISHED-TTL:PT1H
BEGIN:VTIMEZONE
TZID:America/Detroit
BEGIN:DAYLIGHT
TZOFFSETFROM:-0500
TZOFFSETTO:-0400
TZNAME:EDT
DTSTART:20260308T070000
END:DAYLIGHT
BEGIN:STANDARD
TZOFFSETFROM:-0400
TZOFFSETTO:-0500
TZNAME:EST
DTSTART:20261101T060000
END:STANDARD
BEGIN:DAYLIGHT
TZOFFSETFROM:-0500
TZOFFSETTO:-0400
TZNAME:EDT
DTSTART:20270314T070000
END:DAYLIGHT
BEGIN:STANDARD
TZOFFSETFROM:-0400
TZOFFSETTO:-0500
TZNAME:EST
DTSTART:20271107T060000
END:STANDARD
BEGIN:DAYLIGHT
TZOFFSETFROM:-0500
TZOFFSETTO:-0400
TZNAME:EDT
DTSTART:20280312T070000
END:DAYLIGHT
BEGIN:STANDARD
TZOFFSETFROM:-0400
TZOFFSETTO:-0500
TZNAME:EST
DTSTART:20281105T060000
END:STANDARD
END:VTIMEZONE
BEGIN:VEVENT
DTSTART;TZID=America/Detroit:20270211T090000
DTEND;TZID=America/Detroit:20270211T110000
DTSTAMP:20260424T070757
CREATED:20231108T034122Z
LAST-MODIFIED:20231206T221550Z
UID:10000534-1802336400-1802343600@portagefaith.com
SUMMARY:Walk-In Office Hours
DESCRIPTION:Portage Faith Church Pastor Bill Graham holds Walk-In Office Hours on Tuesday and Thursday mornings from 9:00 – 11:00 am ET. \nPlease check the Announcements each week for any schedule conflict that may change Pastor Bill’s Walk-In Office Hours that week\, and please contact him in advance to make an appointment for other days/times.
URL:https://portagefaith.com/events/walk-in-office-hours-12/2027-02-11/
LOCATION:Portage Faith United Methodist Church\, 9922 State Route 44\, Mantua\, OH\, 44255\, United States
CATEGORIES:Office Hours
ATTACH;FMTTYPE=image/jpeg:https://portagefaith.com/wp-content/uploads/2023/10/PF-Bill-Office-Hrs-e1699542183796.jpg
ORGANIZER;CN="Pastor Bill Graham":MAILTO:Rev.Bill.Graham@gmail.com
END:VEVENT
BEGIN:VEVENT
DTSTART;VALUE=DATE:20270212
DTEND;VALUE=DATE:20270213
DTSTAMP:20260424T070757
CREATED:20231102T231125Z
LAST-MODIFIED:20231206T221455Z
UID:10000277-1802390400-1802476799@portagefaith.com
SUMMARY:Office Closed
DESCRIPTION:
URL:https://portagefaith.com/events/office-closed-16/2027-02-12/
LOCATION:Portage Faith United Methodist Church\, 9922 State Route 44\, Mantua\, OH\, 44255\, United States
CATEGORIES:Office Hours
ATTACH;FMTTYPE=image/jpeg:https://portagefaith.com/wp-content/uploads/2023/11/PF-drive-3.jpeg
ORGANIZER;CN="Portage Faith United Methodist Church":MAILTO:officeadmin@portagefaith.com
END:VEVENT
BEGIN:VEVENT
DTSTART;TZID=America/Detroit:20270214T073000
DTEND;TZID=America/Detroit:20270214T073000
DTSTAMP:20260424T070757
CREATED:20240220T181815Z
LAST-MODIFIED:20260307T162741Z
UID:10002418-1802590200-1802590200@portagefaith.com
SUMMARY:UMM Breakfast Meeting
DESCRIPTION:The Portage Faith United Methodist Men (UMM) will hold a Breakfast Meeting in our Blue Room today at 7:30 am. All men are welcome to attend. \nLearn more and ask questions about our long- and short-term projects to help the church and our community! \nLearn more about the UMM!
URL:https://portagefaith.com/events/umm-breakfast-meeting-3/2027-02-14/
LOCATION:Portage Faith United Methodist Church\, 9922 State Route 44\, Mantua\, OH\, 44255\, United States
CATEGORIES:United Methodist Men
ATTACH;FMTTYPE=image/jpeg:https://portagefaith.com/wp-content/uploads/2023/11/UMC-Logo-PFC-UMM-Brkfst.jpg
END:VEVENT
BEGIN:VEVENT
DTSTART;TZID=America/Detroit:20270214T093000
DTEND;TZID=America/Detroit:20270214T103000
DTSTAMP:20260424T070757
CREATED:20231207T181330Z
LAST-MODIFIED:20231208T154040Z
UID:10002082-1802597400-1802601000@portagefaith.com
SUMMARY:Worship Service
DESCRIPTION:Our Portage Faith Church Worship Service begins at 9:30 am every Sunday throughout the year. \nYou are always welcome here – please join us!
URL:https://portagefaith.com/events/worship-service-3/2027-02-14/
LOCATION:Portage Faith United Methodist Church\, 9922 State Route 44\, Mantua\, OH\, 44255\, United States
CATEGORIES:Worship
ATTACH;FMTTYPE=image/jpeg:https://portagefaith.com/wp-content/uploads/2023/11/PF-Events-Interior-Web.jpg
ORGANIZER;CN="Portage Faith United Methodist Church":MAILTO:officeadmin@portagefaith.com
END:VEVENT
BEGIN:VEVENT
DTSTART;VALUE=DATE:20270215
DTEND;VALUE=DATE:20270216
DTSTAMP:20260424T070757
CREATED:20231102T231256Z
LAST-MODIFIED:20231206T222249Z
UID:10001825-1802649600-1802735999@portagefaith.com
SUMMARY:Office Closed
DESCRIPTION:
URL:https://portagefaith.com/events/office-closed-18/2027-02-15/
LOCATION:Portage Faith United Methodist Church\, 9922 State Route 44\, Mantua\, OH\, 44255\, United States
CATEGORIES:Office Hours
ATTACH;FMTTYPE=image/jpeg:https://portagefaith.com/wp-content/uploads/2023/11/PF-Outside-pink-flowers-1.jpeg
ORGANIZER;CN="Portage Faith United Methodist Church":MAILTO:officeadmin@portagefaith.com
END:VEVENT
BEGIN:VEVENT
DTSTART;TZID=America/Detroit:20270216T090000
DTEND;TZID=America/Detroit:20270216T110000
DTSTAMP:20260424T070757
CREATED:20231228T224707Z
LAST-MODIFIED:20231228T224709Z
UID:10001050-1802768400-1802775600@portagefaith.com
SUMMARY:Walk-In Office Hours
DESCRIPTION:Portage Faith Church Pastor Bill Graham holds Walk-In Office Hours on Tuesday and Thursday mornings from 9:00 – 11:00 am ET. \nPlease check the Announcements each week for any schedule conflict that may change Pastor Bill’s Walk-In Office Hours that week\, and please contact him in advance to make an appointment for other days/times.
URL:https://portagefaith.com/events/walk-in-office-hours-13-2/2027-02-16/
LOCATION:Portage Faith United Methodist Church\, 9922 State Route 44\, Mantua\, OH\, 44255\, United States
CATEGORIES:Office Hours
ATTACH;FMTTYPE=image/jpeg:https://portagefaith.com/wp-content/uploads/2023/10/PF-Bill-Office-Hrs-e1699542183796.jpg
ORGANIZER;CN="Pastor Bill Graham":MAILTO:Rev.Bill.Graham@gmail.com
END:VEVENT
BEGIN:VEVENT
DTSTART;TZID=America/Detroit:20270218T090000
DTEND;TZID=America/Detroit:20270218T110000
DTSTAMP:20260424T070757
CREATED:20231108T034122Z
LAST-MODIFIED:20231206T221550Z
UID:10000535-1802941200-1802948400@portagefaith.com
SUMMARY:Walk-In Office Hours
DESCRIPTION:Portage Faith Church Pastor Bill Graham holds Walk-In Office Hours on Tuesday and Thursday mornings from 9:00 – 11:00 am ET. \nPlease check the Announcements each week for any schedule conflict that may change Pastor Bill’s Walk-In Office Hours that week\, and please contact him in advance to make an appointment for other days/times.
URL:https://portagefaith.com/events/walk-in-office-hours-12/2027-02-18/
LOCATION:Portage Faith United Methodist Church\, 9922 State Route 44\, Mantua\, OH\, 44255\, United States
CATEGORIES:Office Hours
ATTACH;FMTTYPE=image/jpeg:https://portagefaith.com/wp-content/uploads/2023/10/PF-Bill-Office-Hrs-e1699542183796.jpg
ORGANIZER;CN="Pastor Bill Graham":MAILTO:Rev.Bill.Graham@gmail.com
END:VEVENT
BEGIN:VEVENT
DTSTART;VALUE=DATE:20270219
DTEND;VALUE=DATE:20270220
DTSTAMP:20260424T070757
CREATED:20231102T231125Z
LAST-MODIFIED:20231206T221455Z
UID:10000278-1802995200-1803081599@portagefaith.com
SUMMARY:Office Closed
DESCRIPTION:
URL:https://portagefaith.com/events/office-closed-16/2027-02-19/
LOCATION:Portage Faith United Methodist Church\, 9922 State Route 44\, Mantua\, OH\, 44255\, United States
CATEGORIES:Office Hours
ATTACH;FMTTYPE=image/jpeg:https://portagefaith.com/wp-content/uploads/2023/11/PF-drive-3.jpeg
ORGANIZER;CN="Portage Faith United Methodist Church":MAILTO:officeadmin@portagefaith.com
END:VEVENT
BEGIN:VEVENT
DTSTART;TZID=America/Detroit:20270221T093000
DTEND;TZID=America/Detroit:20270221T103000
DTSTAMP:20260424T070757
CREATED:20231207T181330Z
LAST-MODIFIED:20231208T154040Z
UID:10002083-1803202200-1803205800@portagefaith.com
SUMMARY:Worship Service
DESCRIPTION:Our Portage Faith Church Worship Service begins at 9:30 am every Sunday throughout the year. \nYou are always welcome here – please join us!
URL:https://portagefaith.com/events/worship-service-3/2027-02-21/
LOCATION:Portage Faith United Methodist Church\, 9922 State Route 44\, Mantua\, OH\, 44255\, United States
CATEGORIES:Worship
ATTACH;FMTTYPE=image/jpeg:https://portagefaith.com/wp-content/uploads/2023/11/PF-Events-Interior-Web.jpg
ORGANIZER;CN="Portage Faith United Methodist Church":MAILTO:officeadmin@portagefaith.com
END:VEVENT
BEGIN:VEVENT
DTSTART;VALUE=DATE:20270222
DTEND;VALUE=DATE:20270223
DTSTAMP:20260424T070757
CREATED:20231102T231256Z
LAST-MODIFIED:20231206T222249Z
UID:10001826-1803254400-1803340799@portagefaith.com
SUMMARY:Office Closed
DESCRIPTION:
URL:https://portagefaith.com/events/office-closed-18/2027-02-22/
LOCATION:Portage Faith United Methodist Church\, 9922 State Route 44\, Mantua\, OH\, 44255\, United States
CATEGORIES:Office Hours
ATTACH;FMTTYPE=image/jpeg:https://portagefaith.com/wp-content/uploads/2023/11/PF-Outside-pink-flowers-1.jpeg
ORGANIZER;CN="Portage Faith United Methodist Church":MAILTO:officeadmin@portagefaith.com
END:VEVENT
BEGIN:VEVENT
DTSTART;TZID=America/Detroit:20270223T090000
DTEND;TZID=America/Detroit:20270223T110000
DTSTAMP:20260424T070757
CREATED:20231228T224707Z
LAST-MODIFIED:20231228T224709Z
UID:10001051-1803373200-1803380400@portagefaith.com
SUMMARY:Walk-In Office Hours
DESCRIPTION:Portage Faith Church Pastor Bill Graham holds Walk-In Office Hours on Tuesday and Thursday mornings from 9:00 – 11:00 am ET. \nPlease check the Announcements each week for any schedule conflict that may change Pastor Bill’s Walk-In Office Hours that week\, and please contact him in advance to make an appointment for other days/times.
URL:https://portagefaith.com/events/walk-in-office-hours-13-2/2027-02-23/
LOCATION:Portage Faith United Methodist Church\, 9922 State Route 44\, Mantua\, OH\, 44255\, United States
CATEGORIES:Office Hours
ATTACH;FMTTYPE=image/jpeg:https://portagefaith.com/wp-content/uploads/2023/10/PF-Bill-Office-Hrs-e1699542183796.jpg
ORGANIZER;CN="Pastor Bill Graham":MAILTO:Rev.Bill.Graham@gmail.com
END:VEVENT
BEGIN:VEVENT
DTSTART;TZID=America/Detroit:20270225T090000
DTEND;TZID=America/Detroit:20270225T110000
DTSTAMP:20260424T070757
CREATED:20231108T034122Z
LAST-MODIFIED:20231206T221550Z
UID:10000536-1803546000-1803553200@portagefaith.com
SUMMARY:Walk-In Office Hours
DESCRIPTION:Portage Faith Church Pastor Bill Graham holds Walk-In Office Hours on Tuesday and Thursday mornings from 9:00 – 11:00 am ET. \nPlease check the Announcements each week for any schedule conflict that may change Pastor Bill’s Walk-In Office Hours that week\, and please contact him in advance to make an appointment for other days/times.
URL:https://portagefaith.com/events/walk-in-office-hours-12/2027-02-25/
LOCATION:Portage Faith United Methodist Church\, 9922 State Route 44\, Mantua\, OH\, 44255\, United States
CATEGORIES:Office Hours
ATTACH;FMTTYPE=image/jpeg:https://portagefaith.com/wp-content/uploads/2023/10/PF-Bill-Office-Hrs-e1699542183796.jpg
ORGANIZER;CN="Pastor Bill Graham":MAILTO:Rev.Bill.Graham@gmail.com
END:VEVENT
BEGIN:VEVENT
DTSTART;VALUE=DATE:20270226
DTEND;VALUE=DATE:20270227
DTSTAMP:20260424T070757
CREATED:20231102T231125Z
LAST-MODIFIED:20231206T221455Z
UID:10000279-1803600000-1803686399@portagefaith.com
SUMMARY:Office Closed
DESCRIPTION:
URL:https://portagefaith.com/events/office-closed-16/2027-02-26/
LOCATION:Portage Faith United Methodist Church\, 9922 State Route 44\, Mantua\, OH\, 44255\, United States
CATEGORIES:Office Hours
ATTACH;FMTTYPE=image/jpeg:https://portagefaith.com/wp-content/uploads/2023/11/PF-drive-3.jpeg
ORGANIZER;CN="Portage Faith United Methodist Church":MAILTO:officeadmin@portagefaith.com
END:VEVENT
BEGIN:VEVENT
DTSTART;TZID=America/Detroit:20270228T080000
DTEND;TZID=America/Detroit:20270228T090000
DTSTAMP:20260424T070757
CREATED:20240925T185433Z
LAST-MODIFIED:20260128T193335Z
UID:10004038-1803801600-1803805200@portagefaith.com
SUMMARY:UWF Breakfast Meeting
DESCRIPTION:
URL:https://portagefaith.com/events/uwf-breakfast-meeting-2/2027-02-28/
LOCATION:Portage Faith United Methodist Church\, 9922 State Route 44\, Mantua\, OH\, 44255\, United States
CATEGORIES:Committees,United Women in Faith
ORGANIZER;CN="United Women in Faith":MAILTO:pfumcoffice@gmail.com
END:VEVENT
BEGIN:VEVENT
DTSTART;TZID=America/Detroit:20270228T093000
DTEND;TZID=America/Detroit:20270228T103000
DTSTAMP:20260424T070757
CREATED:20231207T181330Z
LAST-MODIFIED:20231208T154040Z
UID:10002084-1803807000-1803810600@portagefaith.com
SUMMARY:Worship Service
DESCRIPTION:Our Portage Faith Church Worship Service begins at 9:30 am every Sunday throughout the year. \nYou are always welcome here – please join us!
URL:https://portagefaith.com/events/worship-service-3/2027-02-28/
LOCATION:Portage Faith United Methodist Church\, 9922 State Route 44\, Mantua\, OH\, 44255\, United States
CATEGORIES:Worship
ATTACH;FMTTYPE=image/jpeg:https://portagefaith.com/wp-content/uploads/2023/11/PF-Events-Interior-Web.jpg
ORGANIZER;CN="Portage Faith United Methodist Church":MAILTO:officeadmin@portagefaith.com
END:VEVENT
BEGIN:VEVENT
DTSTART;VALUE=DATE:20270301
DTEND;VALUE=DATE:20270302
DTSTAMP:20260424T070757
CREATED:20231102T231256Z
LAST-MODIFIED:20231206T222249Z
UID:10001827-1803859200-1803945599@portagefaith.com
SUMMARY:Office Closed
DESCRIPTION:
URL:https://portagefaith.com/events/office-closed-18/2027-03-01/
LOCATION:Portage Faith United Methodist Church\, 9922 State Route 44\, Mantua\, OH\, 44255\, United States
CATEGORIES:Office Hours
ATTACH;FMTTYPE=image/jpeg:https://portagefaith.com/wp-content/uploads/2023/11/PF-Outside-pink-flowers-1.jpeg
ORGANIZER;CN="Portage Faith United Methodist Church":MAILTO:officeadmin@portagefaith.com
END:VEVENT
BEGIN:VEVENT
DTSTART;TZID=America/Detroit:20270302T090000
DTEND;TZID=America/Detroit:20270302T110000
DTSTAMP:20260424T070757
CREATED:20231228T224707Z
LAST-MODIFIED:20231228T224709Z
UID:10001052-1803978000-1803985200@portagefaith.com
SUMMARY:Walk-In Office Hours
DESCRIPTION:Portage Faith Church Pastor Bill Graham holds Walk-In Office Hours on Tuesday and Thursday mornings from 9:00 – 11:00 am ET. \nPlease check the Announcements each week for any schedule conflict that may change Pastor Bill’s Walk-In Office Hours that week\, and please contact him in advance to make an appointment for other days/times.
URL:https://portagefaith.com/events/walk-in-office-hours-13-2/2027-03-02/
LOCATION:Portage Faith United Methodist Church\, 9922 State Route 44\, Mantua\, OH\, 44255\, United States
CATEGORIES:Office Hours
ATTACH;FMTTYPE=image/jpeg:https://portagefaith.com/wp-content/uploads/2023/10/PF-Bill-Office-Hrs-e1699542183796.jpg
ORGANIZER;CN="Pastor Bill Graham":MAILTO:Rev.Bill.Graham@gmail.com
END:VEVENT
BEGIN:VEVENT
DTSTART;TZID=America/Detroit:20270304T090000
DTEND;TZID=America/Detroit:20270304T110000
DTSTAMP:20260424T070757
CREATED:20231108T034122Z
LAST-MODIFIED:20231206T221550Z
UID:10000537-1804150800-1804158000@portagefaith.com
SUMMARY:Walk-In Office Hours
DESCRIPTION:Portage Faith Church Pastor Bill Graham holds Walk-In Office Hours on Tuesday and Thursday mornings from 9:00 – 11:00 am ET. \nPlease check the Announcements each week for any schedule conflict that may change Pastor Bill’s Walk-In Office Hours that week\, and please contact him in advance to make an appointment for other days/times.
URL:https://portagefaith.com/events/walk-in-office-hours-12/2027-03-04/
LOCATION:Portage Faith United Methodist Church\, 9922 State Route 44\, Mantua\, OH\, 44255\, United States
CATEGORIES:Office Hours
ATTACH;FMTTYPE=image/jpeg:https://portagefaith.com/wp-content/uploads/2023/10/PF-Bill-Office-Hrs-e1699542183796.jpg
ORGANIZER;CN="Pastor Bill Graham":MAILTO:Rev.Bill.Graham@gmail.com
END:VEVENT
BEGIN:VEVENT
DTSTART;VALUE=DATE:20270305
DTEND;VALUE=DATE:20270306
DTSTAMP:20260424T070757
CREATED:20231102T231125Z
LAST-MODIFIED:20231206T221455Z
UID:10000280-1804204800-1804291199@portagefaith.com
SUMMARY:Office Closed
DESCRIPTION:
URL:https://portagefaith.com/events/office-closed-16/2027-03-05/
LOCATION:Portage Faith United Methodist Church\, 9922 State Route 44\, Mantua\, OH\, 44255\, United States
CATEGORIES:Office Hours
ATTACH;FMTTYPE=image/jpeg:https://portagefaith.com/wp-content/uploads/2023/11/PF-drive-3.jpeg
ORGANIZER;CN="Portage Faith United Methodist Church":MAILTO:officeadmin@portagefaith.com
END:VEVENT
BEGIN:VEVENT
DTSTART;TZID=America/Detroit:20270307T093000
DTEND;TZID=America/Detroit:20270307T103000
DTSTAMP:20260424T070757
CREATED:20231207T181330Z
LAST-MODIFIED:20231208T154040Z
UID:10002085-1804411800-1804415400@portagefaith.com
SUMMARY:Worship Service
DESCRIPTION:Our Portage Faith Church Worship Service begins at 9:30 am every Sunday throughout the year. \nYou are always welcome here – please join us!
URL:https://portagefaith.com/events/worship-service-3/2027-03-07/
LOCATION:Portage Faith United Methodist Church\, 9922 State Route 44\, Mantua\, OH\, 44255\, United States
CATEGORIES:Worship
ATTACH;FMTTYPE=image/jpeg:https://portagefaith.com/wp-content/uploads/2023/11/PF-Events-Interior-Web.jpg
ORGANIZER;CN="Portage Faith United Methodist Church":MAILTO:officeadmin@portagefaith.com
END:VEVENT
BEGIN:VEVENT
DTSTART;VALUE=DATE:20270308
DTEND;VALUE=DATE:20270309
DTSTAMP:20260424T070757
CREATED:20231102T231256Z
LAST-MODIFIED:20231206T222249Z
UID:10001828-1804464000-1804550399@portagefaith.com
SUMMARY:Office Closed
DESCRIPTION:
URL:https://portagefaith.com/events/office-closed-18/2027-03-08/
LOCATION:Portage Faith United Methodist Church\, 9922 State Route 44\, Mantua\, OH\, 44255\, United States
CATEGORIES:Office Hours
ATTACH;FMTTYPE=image/jpeg:https://portagefaith.com/wp-content/uploads/2023/11/PF-Outside-pink-flowers-1.jpeg
ORGANIZER;CN="Portage Faith United Methodist Church":MAILTO:officeadmin@portagefaith.com
END:VEVENT
BEGIN:VEVENT
DTSTART;TZID=America/Detroit:20270309T090000
DTEND;TZID=America/Detroit:20270309T110000
DTSTAMP:20260424T070757
CREATED:20231228T224707Z
LAST-MODIFIED:20231228T224709Z
UID:10001053-1804582800-1804590000@portagefaith.com
SUMMARY:Walk-In Office Hours
DESCRIPTION:Portage Faith Church Pastor Bill Graham holds Walk-In Office Hours on Tuesday and Thursday mornings from 9:00 – 11:00 am ET. \nPlease check the Announcements each week for any schedule conflict that may change Pastor Bill’s Walk-In Office Hours that week\, and please contact him in advance to make an appointment for other days/times.
URL:https://portagefaith.com/events/walk-in-office-hours-13-2/2027-03-09/
LOCATION:Portage Faith United Methodist Church\, 9922 State Route 44\, Mantua\, OH\, 44255\, United States
CATEGORIES:Office Hours
ATTACH;FMTTYPE=image/jpeg:https://portagefaith.com/wp-content/uploads/2023/10/PF-Bill-Office-Hrs-e1699542183796.jpg
ORGANIZER;CN="Pastor Bill Graham":MAILTO:Rev.Bill.Graham@gmail.com
END:VEVENT
BEGIN:VEVENT
DTSTART;TZID=America/Detroit:20270309T100000
DTEND;TZID=America/Detroit:20270309T100000
DTSTAMP:20260424T070757
CREATED:20240116T210027Z
LAST-MODIFIED:20240206T190225Z
UID:10002301-1804586400-1804586400@portagefaith.com
SUMMARY:Book Club
DESCRIPTION:Everyone who loves to read is welcome to participate in the Portage Faith UMC Book Club. \nWe meet on the second Tuesday of each month in the library at 10:00 am. \nHope to see you soon! \n  \n 
URL:https://portagefaith.com/events/book-club/2027-03-09/
LOCATION:Portage Faith United Methodist Church\, 9922 State Route 44\, Mantua\, OH\, 44255\, United States
CATEGORIES:Book Club
ATTACH;FMTTYPE=image/jpeg:https://portagefaith.com/wp-content/uploads/2024/01/PF-BookClub-2024-Web.jpg
ORGANIZER;CN="Portage Faith United Methodist Church":MAILTO:officeadmin@portagefaith.com
END:VEVENT
BEGIN:VEVENT
DTSTART;TZID=America/Detroit:20270311T090000
DTEND;TZID=America/Detroit:20270311T110000
DTSTAMP:20260424T070757
CREATED:20231108T034122Z
LAST-MODIFIED:20231206T221550Z
UID:10000538-1804755600-1804762800@portagefaith.com
SUMMARY:Walk-In Office Hours
DESCRIPTION:Portage Faith Church Pastor Bill Graham holds Walk-In Office Hours on Tuesday and Thursday mornings from 9:00 – 11:00 am ET. \nPlease check the Announcements each week for any schedule conflict that may change Pastor Bill’s Walk-In Office Hours that week\, and please contact him in advance to make an appointment for other days/times.
URL:https://portagefaith.com/events/walk-in-office-hours-12/2027-03-11/
LOCATION:Portage Faith United Methodist Church\, 9922 State Route 44\, Mantua\, OH\, 44255\, United States
CATEGORIES:Office Hours
ATTACH;FMTTYPE=image/jpeg:https://portagefaith.com/wp-content/uploads/2023/10/PF-Bill-Office-Hrs-e1699542183796.jpg
ORGANIZER;CN="Pastor Bill Graham":MAILTO:Rev.Bill.Graham@gmail.com
END:VEVENT
BEGIN:VEVENT
DTSTART;VALUE=DATE:20270312
DTEND;VALUE=DATE:20270313
DTSTAMP:20260424T070757
CREATED:20231102T231125Z
LAST-MODIFIED:20231206T221455Z
UID:10000281-1804809600-1804895999@portagefaith.com
SUMMARY:Office Closed
DESCRIPTION:
URL:https://portagefaith.com/events/office-closed-16/2027-03-12/
LOCATION:Portage Faith United Methodist Church\, 9922 State Route 44\, Mantua\, OH\, 44255\, United States
CATEGORIES:Office Hours
ATTACH;FMTTYPE=image/jpeg:https://portagefaith.com/wp-content/uploads/2023/11/PF-drive-3.jpeg
ORGANIZER;CN="Portage Faith United Methodist Church":MAILTO:officeadmin@portagefaith.com
END:VEVENT
BEGIN:VEVENT
DTSTART;TZID=America/Detroit:20270314T073000
DTEND;TZID=America/Detroit:20270314T073000
DTSTAMP:20260424T070757
CREATED:20240220T181815Z
LAST-MODIFIED:20260307T162741Z
UID:10002419-1805009400-1805009400@portagefaith.com
SUMMARY:UMM Breakfast Meeting
DESCRIPTION:The Portage Faith United Methodist Men (UMM) will hold a Breakfast Meeting in our Blue Room today at 7:30 am. All men are welcome to attend. \nLearn more and ask questions about our long- and short-term projects to help the church and our community! \nLearn more about the UMM!
URL:https://portagefaith.com/events/umm-breakfast-meeting-3/2027-03-14/
LOCATION:Portage Faith United Methodist Church\, 9922 State Route 44\, Mantua\, OH\, 44255\, United States
CATEGORIES:United Methodist Men
ATTACH;FMTTYPE=image/jpeg:https://portagefaith.com/wp-content/uploads/2023/11/UMC-Logo-PFC-UMM-Brkfst.jpg
END:VEVENT
BEGIN:VEVENT
DTSTART;TZID=America/Detroit:20270314T093000
DTEND;TZID=America/Detroit:20270314T103000
DTSTAMP:20260424T070757
CREATED:20231207T181330Z
LAST-MODIFIED:20231208T154040Z
UID:10002086-1805016600-1805020200@portagefaith.com
SUMMARY:Worship Service
DESCRIPTION:Our Portage Faith Church Worship Service begins at 9:30 am every Sunday throughout the year. \nYou are always welcome here – please join us!
URL:https://portagefaith.com/events/worship-service-3/2027-03-14/
LOCATION:Portage Faith United Methodist Church\, 9922 State Route 44\, Mantua\, OH\, 44255\, United States
CATEGORIES:Worship
ATTACH;FMTTYPE=image/jpeg:https://portagefaith.com/wp-content/uploads/2023/11/PF-Events-Interior-Web.jpg
ORGANIZER;CN="Portage Faith United Methodist Church":MAILTO:officeadmin@portagefaith.com
END:VEVENT
BEGIN:VEVENT
DTSTART;VALUE=DATE:20270315
DTEND;VALUE=DATE:20270316
DTSTAMP:20260424T070757
CREATED:20231102T231256Z
LAST-MODIFIED:20231206T222249Z
UID:10001829-1805068800-1805155199@portagefaith.com
SUMMARY:Office Closed
DESCRIPTION:
URL:https://portagefaith.com/events/office-closed-18/2027-03-15/
LOCATION:Portage Faith United Methodist Church\, 9922 State Route 44\, Mantua\, OH\, 44255\, United States
CATEGORIES:Office Hours
ATTACH;FMTTYPE=image/jpeg:https://portagefaith.com/wp-content/uploads/2023/11/PF-Outside-pink-flowers-1.jpeg
ORGANIZER;CN="Portage Faith United Methodist Church":MAILTO:officeadmin@portagefaith.com
END:VEVENT
BEGIN:VEVENT
DTSTART;TZID=America/Detroit:20270316T090000
DTEND;TZID=America/Detroit:20270316T110000
DTSTAMP:20260424T070757
CREATED:20231228T224707Z
LAST-MODIFIED:20231228T224709Z
UID:10001054-1805187600-1805194800@portagefaith.com
SUMMARY:Walk-In Office Hours
DESCRIPTION:Portage Faith Church Pastor Bill Graham holds Walk-In Office Hours on Tuesday and Thursday mornings from 9:00 – 11:00 am ET. \nPlease check the Announcements each week for any schedule conflict that may change Pastor Bill’s Walk-In Office Hours that week\, and please contact him in advance to make an appointment for other days/times.
URL:https://portagefaith.com/events/walk-in-office-hours-13-2/2027-03-16/
LOCATION:Portage Faith United Methodist Church\, 9922 State Route 44\, Mantua\, OH\, 44255\, United States
CATEGORIES:Office Hours
ATTACH;FMTTYPE=image/jpeg:https://portagefaith.com/wp-content/uploads/2023/10/PF-Bill-Office-Hrs-e1699542183796.jpg
ORGANIZER;CN="Pastor Bill Graham":MAILTO:Rev.Bill.Graham@gmail.com
END:VEVENT
BEGIN:VEVENT
DTSTART;TZID=America/Detroit:20270318T090000
DTEND;TZID=America/Detroit:20270318T110000
DTSTAMP:20260424T070757
CREATED:20231108T034122Z
LAST-MODIFIED:20231206T221550Z
UID:10000539-1805360400-1805367600@portagefaith.com
SUMMARY:Walk-In Office Hours
DESCRIPTION:Portage Faith Church Pastor Bill Graham holds Walk-In Office Hours on Tuesday and Thursday mornings from 9:00 – 11:00 am ET. \nPlease check the Announcements each week for any schedule conflict that may change Pastor Bill’s Walk-In Office Hours that week\, and please contact him in advance to make an appointment for other days/times.
URL:https://portagefaith.com/events/walk-in-office-hours-12/2027-03-18/
LOCATION:Portage Faith United Methodist Church\, 9922 State Route 44\, Mantua\, OH\, 44255\, United States
CATEGORIES:Office Hours
ATTACH;FMTTYPE=image/jpeg:https://portagefaith.com/wp-content/uploads/2023/10/PF-Bill-Office-Hrs-e1699542183796.jpg
ORGANIZER;CN="Pastor Bill Graham":MAILTO:Rev.Bill.Graham@gmail.com
END:VEVENT
END:VCALENDAR