BEGIN:VCALENDAR
VERSION:2.0
PRODID:-//Portage Faith United Methodist Church - ECPv6.15.15//NONSGML v1.0//EN
CALSCALE:GREGORIAN
METHOD:PUBLISH
X-WR-CALNAME:Portage Faith United Methodist Church
X-ORIGINAL-URL:https://portagefaith.com
X-WR-CALDESC:Events for Portage Faith United Methodist Church
REFRESH-INTERVAL;VALUE=DURATION:PT1H
X-Robots-Tag:noindex
X-PUBLISHED-TTL:PT1H
BEGIN:VTIMEZONE
TZID:America/Detroit
BEGIN:DAYLIGHT
TZOFFSETFROM:-0500
TZOFFSETTO:-0400
TZNAME:EDT
DTSTART:20270314T070000
END:DAYLIGHT
BEGIN:STANDARD
TZOFFSETFROM:-0400
TZOFFSETTO:-0500
TZNAME:EST
DTSTART:20271107T060000
END:STANDARD
BEGIN:DAYLIGHT
TZOFFSETFROM:-0500
TZOFFSETTO:-0400
TZNAME:EDT
DTSTART:20280312T070000
END:DAYLIGHT
BEGIN:STANDARD
TZOFFSETFROM:-0400
TZOFFSETTO:-0500
TZNAME:EST
DTSTART:20281105T060000
END:STANDARD
BEGIN:DAYLIGHT
TZOFFSETFROM:-0500
TZOFFSETTO:-0400
TZNAME:EDT
DTSTART:20290311T070000
END:DAYLIGHT
BEGIN:STANDARD
TZOFFSETFROM:-0400
TZOFFSETTO:-0500
TZNAME:EST
DTSTART:20291104T060000
END:STANDARD
END:VTIMEZONE
BEGIN:VEVENT
DTSTART;VALUE=DATE:20280901
DTEND;VALUE=DATE:20280902
DTSTAMP:20260425T074734
CREATED:20231102T231125Z
LAST-MODIFIED:20231206T221455Z
UID:10000358-1851379200-1851465599@portagefaith.com
SUMMARY:Office Closed
DESCRIPTION:
URL:https://portagefaith.com/events/office-closed-16/2028-09-01/
LOCATION:Portage Faith United Methodist Church\, 9922 State Route 44\, Mantua\, OH\, 44255\, United States
CATEGORIES:Office Hours
ATTACH;FMTTYPE=image/jpeg:https://portagefaith.com/wp-content/uploads/2023/11/PF-drive-3.jpeg
ORGANIZER;CN="Portage Faith United Methodist Church":MAILTO:officeadmin@portagefaith.com
END:VEVENT
BEGIN:VEVENT
DTSTART;TZID=America/Detroit:20280903T093000
DTEND;TZID=America/Detroit:20280903T103000
DTSTAMP:20260425T074734
CREATED:20231207T181330Z
LAST-MODIFIED:20231208T154040Z
UID:10002163-1851586200-1851589800@portagefaith.com
SUMMARY:Worship Service
DESCRIPTION:Our Portage Faith Church Worship Service begins at 9:30 am every Sunday throughout the year. \nYou are always welcome here – please join us!
URL:https://portagefaith.com/events/worship-service-3/2028-09-03/
LOCATION:Portage Faith United Methodist Church\, 9922 State Route 44\, Mantua\, OH\, 44255\, United States
CATEGORIES:Worship
ATTACH;FMTTYPE=image/jpeg:https://portagefaith.com/wp-content/uploads/2023/11/PF-Events-Interior-Web.jpg
ORGANIZER;CN="Portage Faith United Methodist Church":MAILTO:officeadmin@portagefaith.com
END:VEVENT
BEGIN:VEVENT
DTSTART;VALUE=DATE:20280904
DTEND;VALUE=DATE:20280905
DTSTAMP:20260425T074734
CREATED:20231102T231256Z
LAST-MODIFIED:20231206T222249Z
UID:10001906-1851638400-1851724799@portagefaith.com
SUMMARY:Office Closed
DESCRIPTION:
URL:https://portagefaith.com/events/office-closed-18/2028-09-04/
LOCATION:Portage Faith United Methodist Church\, 9922 State Route 44\, Mantua\, OH\, 44255\, United States
CATEGORIES:Office Hours
ATTACH;FMTTYPE=image/jpeg:https://portagefaith.com/wp-content/uploads/2023/11/PF-Outside-pink-flowers-1.jpeg
ORGANIZER;CN="Portage Faith United Methodist Church":MAILTO:officeadmin@portagefaith.com
END:VEVENT
BEGIN:VEVENT
DTSTART;TZID=America/Detroit:20280905T090000
DTEND;TZID=America/Detroit:20280905T110000
DTSTAMP:20260425T074734
CREATED:20231228T224707Z
LAST-MODIFIED:20231228T224709Z
UID:10001131-1851757200-1851764400@portagefaith.com
SUMMARY:Walk-In Office Hours
DESCRIPTION:Portage Faith Church Pastor Bill Graham holds Walk-In Office Hours on Tuesday and Thursday mornings from 9:00 – 11:00 am ET. \nPlease check the Announcements each week for any schedule conflict that may change Pastor Bill’s Walk-In Office Hours that week\, and please contact him in advance to make an appointment for other days/times.
URL:https://portagefaith.com/events/walk-in-office-hours-13-2/2028-09-05/
LOCATION:Portage Faith United Methodist Church\, 9922 State Route 44\, Mantua\, OH\, 44255\, United States
CATEGORIES:Office Hours
ATTACH;FMTTYPE=image/jpeg:https://portagefaith.com/wp-content/uploads/2023/10/PF-Bill-Office-Hrs-e1699542183796.jpg
ORGANIZER;CN="Pastor Bill Graham":MAILTO:Rev.Bill.Graham@gmail.com
END:VEVENT
BEGIN:VEVENT
DTSTART;TZID=America/Detroit:20280907T090000
DTEND;TZID=America/Detroit:20280907T110000
DTSTAMP:20260425T074734
CREATED:20231108T034122Z
LAST-MODIFIED:20231206T221550Z
UID:10000616-1851930000-1851937200@portagefaith.com
SUMMARY:Walk-In Office Hours
DESCRIPTION:Portage Faith Church Pastor Bill Graham holds Walk-In Office Hours on Tuesday and Thursday mornings from 9:00 – 11:00 am ET. \nPlease check the Announcements each week for any schedule conflict that may change Pastor Bill’s Walk-In Office Hours that week\, and please contact him in advance to make an appointment for other days/times.
URL:https://portagefaith.com/events/walk-in-office-hours-12/2028-09-07/
LOCATION:Portage Faith United Methodist Church\, 9922 State Route 44\, Mantua\, OH\, 44255\, United States
CATEGORIES:Office Hours
ATTACH;FMTTYPE=image/jpeg:https://portagefaith.com/wp-content/uploads/2023/10/PF-Bill-Office-Hrs-e1699542183796.jpg
ORGANIZER;CN="Pastor Bill Graham":MAILTO:Rev.Bill.Graham@gmail.com
END:VEVENT
BEGIN:VEVENT
DTSTART;VALUE=DATE:20280908
DTEND;VALUE=DATE:20280909
DTSTAMP:20260425T074734
CREATED:20231102T231125Z
LAST-MODIFIED:20231206T221455Z
UID:10000359-1851984000-1852070399@portagefaith.com
SUMMARY:Office Closed
DESCRIPTION:
URL:https://portagefaith.com/events/office-closed-16/2028-09-08/
LOCATION:Portage Faith United Methodist Church\, 9922 State Route 44\, Mantua\, OH\, 44255\, United States
CATEGORIES:Office Hours
ATTACH;FMTTYPE=image/jpeg:https://portagefaith.com/wp-content/uploads/2023/11/PF-drive-3.jpeg
ORGANIZER;CN="Portage Faith United Methodist Church":MAILTO:officeadmin@portagefaith.com
END:VEVENT
BEGIN:VEVENT
DTSTART;TZID=America/Detroit:20280910T073000
DTEND;TZID=America/Detroit:20280910T073000
DTSTAMP:20260425T074734
CREATED:20240220T181815Z
LAST-MODIFIED:20260307T162741Z
UID:10002437-1852183800-1852183800@portagefaith.com
SUMMARY:UMM Breakfast Meeting
DESCRIPTION:The Portage Faith United Methodist Men (UMM) will hold a Breakfast Meeting in our Blue Room today at 7:30 am. All men are welcome to attend. \nLearn more and ask questions about our long- and short-term projects to help the church and our community! \nLearn more about the UMM!
URL:https://portagefaith.com/events/umm-breakfast-meeting-3/2028-09-10/
LOCATION:Portage Faith United Methodist Church\, 9922 State Route 44\, Mantua\, OH\, 44255\, United States
CATEGORIES:United Methodist Men
ATTACH;FMTTYPE=image/jpeg:https://portagefaith.com/wp-content/uploads/2023/11/UMC-Logo-PFC-UMM-Brkfst.jpg
END:VEVENT
BEGIN:VEVENT
DTSTART;TZID=America/Detroit:20280910T093000
DTEND;TZID=America/Detroit:20280910T103000
DTSTAMP:20260425T074734
CREATED:20231207T181330Z
LAST-MODIFIED:20231208T154040Z
UID:10002164-1852191000-1852194600@portagefaith.com
SUMMARY:Worship Service
DESCRIPTION:Our Portage Faith Church Worship Service begins at 9:30 am every Sunday throughout the year. \nYou are always welcome here – please join us!
URL:https://portagefaith.com/events/worship-service-3/2028-09-10/
LOCATION:Portage Faith United Methodist Church\, 9922 State Route 44\, Mantua\, OH\, 44255\, United States
CATEGORIES:Worship
ATTACH;FMTTYPE=image/jpeg:https://portagefaith.com/wp-content/uploads/2023/11/PF-Events-Interior-Web.jpg
ORGANIZER;CN="Portage Faith United Methodist Church":MAILTO:officeadmin@portagefaith.com
END:VEVENT
BEGIN:VEVENT
DTSTART;VALUE=DATE:20280911
DTEND;VALUE=DATE:20280912
DTSTAMP:20260425T074735
CREATED:20231102T231256Z
LAST-MODIFIED:20231206T222249Z
UID:10001907-1852243200-1852329599@portagefaith.com
SUMMARY:Office Closed
DESCRIPTION:
URL:https://portagefaith.com/events/office-closed-18/2028-09-11/
LOCATION:Portage Faith United Methodist Church\, 9922 State Route 44\, Mantua\, OH\, 44255\, United States
CATEGORIES:Office Hours
ATTACH;FMTTYPE=image/jpeg:https://portagefaith.com/wp-content/uploads/2023/11/PF-Outside-pink-flowers-1.jpeg
ORGANIZER;CN="Portage Faith United Methodist Church":MAILTO:officeadmin@portagefaith.com
END:VEVENT
BEGIN:VEVENT
DTSTART;TZID=America/Detroit:20280912T090000
DTEND;TZID=America/Detroit:20280912T110000
DTSTAMP:20260425T074735
CREATED:20231228T224707Z
LAST-MODIFIED:20231228T224709Z
UID:10001132-1852362000-1852369200@portagefaith.com
SUMMARY:Walk-In Office Hours
DESCRIPTION:Portage Faith Church Pastor Bill Graham holds Walk-In Office Hours on Tuesday and Thursday mornings from 9:00 – 11:00 am ET. \nPlease check the Announcements each week for any schedule conflict that may change Pastor Bill’s Walk-In Office Hours that week\, and please contact him in advance to make an appointment for other days/times.
URL:https://portagefaith.com/events/walk-in-office-hours-13-2/2028-09-12/
LOCATION:Portage Faith United Methodist Church\, 9922 State Route 44\, Mantua\, OH\, 44255\, United States
CATEGORIES:Office Hours
ATTACH;FMTTYPE=image/jpeg:https://portagefaith.com/wp-content/uploads/2023/10/PF-Bill-Office-Hrs-e1699542183796.jpg
ORGANIZER;CN="Pastor Bill Graham":MAILTO:Rev.Bill.Graham@gmail.com
END:VEVENT
BEGIN:VEVENT
DTSTART;TZID=America/Detroit:20280912T100000
DTEND;TZID=America/Detroit:20280912T100000
DTSTAMP:20260425T074735
CREATED:20240116T210027Z
LAST-MODIFIED:20240206T190225Z
UID:10002319-1852365600-1852365600@portagefaith.com
SUMMARY:Book Club
DESCRIPTION:Everyone who loves to read is welcome to participate in the Portage Faith UMC Book Club. \nWe meet on the second Tuesday of each month in the library at 10:00 am. \nHope to see you soon! \n  \n 
URL:https://portagefaith.com/events/book-club/2028-09-12/
LOCATION:Portage Faith United Methodist Church\, 9922 State Route 44\, Mantua\, OH\, 44255\, United States
CATEGORIES:Book Club
ATTACH;FMTTYPE=image/jpeg:https://portagefaith.com/wp-content/uploads/2024/01/PF-BookClub-2024-Web.jpg
ORGANIZER;CN="Portage Faith United Methodist Church":MAILTO:officeadmin@portagefaith.com
END:VEVENT
BEGIN:VEVENT
DTSTART;TZID=America/Detroit:20280914T090000
DTEND;TZID=America/Detroit:20280914T110000
DTSTAMP:20260425T074735
CREATED:20231108T034122Z
LAST-MODIFIED:20231206T221550Z
UID:10000617-1852534800-1852542000@portagefaith.com
SUMMARY:Walk-In Office Hours
DESCRIPTION:Portage Faith Church Pastor Bill Graham holds Walk-In Office Hours on Tuesday and Thursday mornings from 9:00 – 11:00 am ET. \nPlease check the Announcements each week for any schedule conflict that may change Pastor Bill’s Walk-In Office Hours that week\, and please contact him in advance to make an appointment for other days/times.
URL:https://portagefaith.com/events/walk-in-office-hours-12/2028-09-14/
LOCATION:Portage Faith United Methodist Church\, 9922 State Route 44\, Mantua\, OH\, 44255\, United States
CATEGORIES:Office Hours
ATTACH;FMTTYPE=image/jpeg:https://portagefaith.com/wp-content/uploads/2023/10/PF-Bill-Office-Hrs-e1699542183796.jpg
ORGANIZER;CN="Pastor Bill Graham":MAILTO:Rev.Bill.Graham@gmail.com
END:VEVENT
BEGIN:VEVENT
DTSTART;VALUE=DATE:20280915
DTEND;VALUE=DATE:20280916
DTSTAMP:20260425T074735
CREATED:20231102T231125Z
LAST-MODIFIED:20231206T221455Z
UID:10000360-1852588800-1852675199@portagefaith.com
SUMMARY:Office Closed
DESCRIPTION:
URL:https://portagefaith.com/events/office-closed-16/2028-09-15/
LOCATION:Portage Faith United Methodist Church\, 9922 State Route 44\, Mantua\, OH\, 44255\, United States
CATEGORIES:Office Hours
ATTACH;FMTTYPE=image/jpeg:https://portagefaith.com/wp-content/uploads/2023/11/PF-drive-3.jpeg
ORGANIZER;CN="Portage Faith United Methodist Church":MAILTO:officeadmin@portagefaith.com
END:VEVENT
BEGIN:VEVENT
DTSTART;TZID=America/Detroit:20280917T093000
DTEND;TZID=America/Detroit:20280917T103000
DTSTAMP:20260425T074735
CREATED:20231207T181330Z
LAST-MODIFIED:20231208T154040Z
UID:10002165-1852795800-1852799400@portagefaith.com
SUMMARY:Worship Service
DESCRIPTION:Our Portage Faith Church Worship Service begins at 9:30 am every Sunday throughout the year. \nYou are always welcome here – please join us!
URL:https://portagefaith.com/events/worship-service-3/2028-09-17/
LOCATION:Portage Faith United Methodist Church\, 9922 State Route 44\, Mantua\, OH\, 44255\, United States
CATEGORIES:Worship
ATTACH;FMTTYPE=image/jpeg:https://portagefaith.com/wp-content/uploads/2023/11/PF-Events-Interior-Web.jpg
ORGANIZER;CN="Portage Faith United Methodist Church":MAILTO:officeadmin@portagefaith.com
END:VEVENT
BEGIN:VEVENT
DTSTART;VALUE=DATE:20280918
DTEND;VALUE=DATE:20280919
DTSTAMP:20260425T074735
CREATED:20231102T231256Z
LAST-MODIFIED:20231206T222249Z
UID:10001908-1852848000-1852934399@portagefaith.com
SUMMARY:Office Closed
DESCRIPTION:
URL:https://portagefaith.com/events/office-closed-18/2028-09-18/
LOCATION:Portage Faith United Methodist Church\, 9922 State Route 44\, Mantua\, OH\, 44255\, United States
CATEGORIES:Office Hours
ATTACH;FMTTYPE=image/jpeg:https://portagefaith.com/wp-content/uploads/2023/11/PF-Outside-pink-flowers-1.jpeg
ORGANIZER;CN="Portage Faith United Methodist Church":MAILTO:officeadmin@portagefaith.com
END:VEVENT
BEGIN:VEVENT
DTSTART;TZID=America/Detroit:20280919T090000
DTEND;TZID=America/Detroit:20280919T110000
DTSTAMP:20260425T074735
CREATED:20231228T224707Z
LAST-MODIFIED:20231228T224709Z
UID:10001133-1852966800-1852974000@portagefaith.com
SUMMARY:Walk-In Office Hours
DESCRIPTION:Portage Faith Church Pastor Bill Graham holds Walk-In Office Hours on Tuesday and Thursday mornings from 9:00 – 11:00 am ET. \nPlease check the Announcements each week for any schedule conflict that may change Pastor Bill’s Walk-In Office Hours that week\, and please contact him in advance to make an appointment for other days/times.
URL:https://portagefaith.com/events/walk-in-office-hours-13-2/2028-09-19/
LOCATION:Portage Faith United Methodist Church\, 9922 State Route 44\, Mantua\, OH\, 44255\, United States
CATEGORIES:Office Hours
ATTACH;FMTTYPE=image/jpeg:https://portagefaith.com/wp-content/uploads/2023/10/PF-Bill-Office-Hrs-e1699542183796.jpg
ORGANIZER;CN="Pastor Bill Graham":MAILTO:Rev.Bill.Graham@gmail.com
END:VEVENT
BEGIN:VEVENT
DTSTART;TZID=America/Detroit:20280921T090000
DTEND;TZID=America/Detroit:20280921T110000
DTSTAMP:20260425T074735
CREATED:20231108T034122Z
LAST-MODIFIED:20231206T221550Z
UID:10000618-1853139600-1853146800@portagefaith.com
SUMMARY:Walk-In Office Hours
DESCRIPTION:Portage Faith Church Pastor Bill Graham holds Walk-In Office Hours on Tuesday and Thursday mornings from 9:00 – 11:00 am ET. \nPlease check the Announcements each week for any schedule conflict that may change Pastor Bill’s Walk-In Office Hours that week\, and please contact him in advance to make an appointment for other days/times.
URL:https://portagefaith.com/events/walk-in-office-hours-12/2028-09-21/
LOCATION:Portage Faith United Methodist Church\, 9922 State Route 44\, Mantua\, OH\, 44255\, United States
CATEGORIES:Office Hours
ATTACH;FMTTYPE=image/jpeg:https://portagefaith.com/wp-content/uploads/2023/10/PF-Bill-Office-Hrs-e1699542183796.jpg
ORGANIZER;CN="Pastor Bill Graham":MAILTO:Rev.Bill.Graham@gmail.com
END:VEVENT
BEGIN:VEVENT
DTSTART;VALUE=DATE:20280922
DTEND;VALUE=DATE:20280923
DTSTAMP:20260425T074735
CREATED:20231102T231125Z
LAST-MODIFIED:20231206T221455Z
UID:10000361-1853193600-1853279999@portagefaith.com
SUMMARY:Office Closed
DESCRIPTION:
URL:https://portagefaith.com/events/office-closed-16/2028-09-22/
LOCATION:Portage Faith United Methodist Church\, 9922 State Route 44\, Mantua\, OH\, 44255\, United States
CATEGORIES:Office Hours
ATTACH;FMTTYPE=image/jpeg:https://portagefaith.com/wp-content/uploads/2023/11/PF-drive-3.jpeg
ORGANIZER;CN="Portage Faith United Methodist Church":MAILTO:officeadmin@portagefaith.com
END:VEVENT
BEGIN:VEVENT
DTSTART;TZID=America/Detroit:20280924T093000
DTEND;TZID=America/Detroit:20280924T103000
DTSTAMP:20260425T074735
CREATED:20231207T181330Z
LAST-MODIFIED:20231208T154040Z
UID:10002166-1853400600-1853404200@portagefaith.com
SUMMARY:Worship Service
DESCRIPTION:Our Portage Faith Church Worship Service begins at 9:30 am every Sunday throughout the year. \nYou are always welcome here – please join us!
URL:https://portagefaith.com/events/worship-service-3/2028-09-24/
LOCATION:Portage Faith United Methodist Church\, 9922 State Route 44\, Mantua\, OH\, 44255\, United States
CATEGORIES:Worship
ATTACH;FMTTYPE=image/jpeg:https://portagefaith.com/wp-content/uploads/2023/11/PF-Events-Interior-Web.jpg
ORGANIZER;CN="Portage Faith United Methodist Church":MAILTO:officeadmin@portagefaith.com
END:VEVENT
BEGIN:VEVENT
DTSTART;VALUE=DATE:20280925
DTEND;VALUE=DATE:20280926
DTSTAMP:20260425T074735
CREATED:20231102T231256Z
LAST-MODIFIED:20231206T222249Z
UID:10001909-1853452800-1853539199@portagefaith.com
SUMMARY:Office Closed
DESCRIPTION:
URL:https://portagefaith.com/events/office-closed-18/2028-09-25/
LOCATION:Portage Faith United Methodist Church\, 9922 State Route 44\, Mantua\, OH\, 44255\, United States
CATEGORIES:Office Hours
ATTACH;FMTTYPE=image/jpeg:https://portagefaith.com/wp-content/uploads/2023/11/PF-Outside-pink-flowers-1.jpeg
ORGANIZER;CN="Portage Faith United Methodist Church":MAILTO:officeadmin@portagefaith.com
END:VEVENT
BEGIN:VEVENT
DTSTART;TZID=America/Detroit:20280926T090000
DTEND;TZID=America/Detroit:20280926T110000
DTSTAMP:20260425T074735
CREATED:20231228T224707Z
LAST-MODIFIED:20231228T224709Z
UID:10001134-1853571600-1853578800@portagefaith.com
SUMMARY:Walk-In Office Hours
DESCRIPTION:Portage Faith Church Pastor Bill Graham holds Walk-In Office Hours on Tuesday and Thursday mornings from 9:00 – 11:00 am ET. \nPlease check the Announcements each week for any schedule conflict that may change Pastor Bill’s Walk-In Office Hours that week\, and please contact him in advance to make an appointment for other days/times.
URL:https://portagefaith.com/events/walk-in-office-hours-13-2/2028-09-26/
LOCATION:Portage Faith United Methodist Church\, 9922 State Route 44\, Mantua\, OH\, 44255\, United States
CATEGORIES:Office Hours
ATTACH;FMTTYPE=image/jpeg:https://portagefaith.com/wp-content/uploads/2023/10/PF-Bill-Office-Hrs-e1699542183796.jpg
ORGANIZER;CN="Pastor Bill Graham":MAILTO:Rev.Bill.Graham@gmail.com
END:VEVENT
BEGIN:VEVENT
DTSTART;TZID=America/Detroit:20280928T090000
DTEND;TZID=America/Detroit:20280928T110000
DTSTAMP:20260425T074735
CREATED:20231108T034122Z
LAST-MODIFIED:20231206T221550Z
UID:10000619-1853744400-1853751600@portagefaith.com
SUMMARY:Walk-In Office Hours
DESCRIPTION:Portage Faith Church Pastor Bill Graham holds Walk-In Office Hours on Tuesday and Thursday mornings from 9:00 – 11:00 am ET. \nPlease check the Announcements each week for any schedule conflict that may change Pastor Bill’s Walk-In Office Hours that week\, and please contact him in advance to make an appointment for other days/times.
URL:https://portagefaith.com/events/walk-in-office-hours-12/2028-09-28/
LOCATION:Portage Faith United Methodist Church\, 9922 State Route 44\, Mantua\, OH\, 44255\, United States
CATEGORIES:Office Hours
ATTACH;FMTTYPE=image/jpeg:https://portagefaith.com/wp-content/uploads/2023/10/PF-Bill-Office-Hrs-e1699542183796.jpg
ORGANIZER;CN="Pastor Bill Graham":MAILTO:Rev.Bill.Graham@gmail.com
END:VEVENT
BEGIN:VEVENT
DTSTART;VALUE=DATE:20280929
DTEND;VALUE=DATE:20280930
DTSTAMP:20260425T074735
CREATED:20231102T231125Z
LAST-MODIFIED:20231206T221455Z
UID:10000362-1853798400-1853884799@portagefaith.com
SUMMARY:Office Closed
DESCRIPTION:
URL:https://portagefaith.com/events/office-closed-16/2028-09-29/
LOCATION:Portage Faith United Methodist Church\, 9922 State Route 44\, Mantua\, OH\, 44255\, United States
CATEGORIES:Office Hours
ATTACH;FMTTYPE=image/jpeg:https://portagefaith.com/wp-content/uploads/2023/11/PF-drive-3.jpeg
ORGANIZER;CN="Portage Faith United Methodist Church":MAILTO:officeadmin@portagefaith.com
END:VEVENT
END:VCALENDAR