BEGIN:VCALENDAR
VERSION:2.0
PRODID:-//Portage Faith United Methodist Church - ECPv6.15.15//NONSGML v1.0//EN
CALSCALE:GREGORIAN
METHOD:PUBLISH
X-WR-CALNAME:Portage Faith United Methodist Church
X-ORIGINAL-URL:https://portagefaith.com
X-WR-CALDESC:Events for Portage Faith United Methodist Church
REFRESH-INTERVAL;VALUE=DURATION:PT1H
X-Robots-Tag:noindex
X-PUBLISHED-TTL:PT1H
BEGIN:VTIMEZONE
TZID:America/Detroit
BEGIN:DAYLIGHT
TZOFFSETFROM:-0500
TZOFFSETTO:-0400
TZNAME:EDT
DTSTART:20250309T070000
END:DAYLIGHT
BEGIN:STANDARD
TZOFFSETFROM:-0400
TZOFFSETTO:-0500
TZNAME:EST
DTSTART:20251102T060000
END:STANDARD
BEGIN:DAYLIGHT
TZOFFSETFROM:-0500
TZOFFSETTO:-0400
TZNAME:EDT
DTSTART:20260308T070000
END:DAYLIGHT
BEGIN:STANDARD
TZOFFSETFROM:-0400
TZOFFSETTO:-0500
TZNAME:EST
DTSTART:20261101T060000
END:STANDARD
BEGIN:DAYLIGHT
TZOFFSETFROM:-0500
TZOFFSETTO:-0400
TZNAME:EDT
DTSTART:20270314T070000
END:DAYLIGHT
BEGIN:STANDARD
TZOFFSETFROM:-0400
TZOFFSETTO:-0500
TZNAME:EST
DTSTART:20271107T060000
END:STANDARD
END:VTIMEZONE
BEGIN:VEVENT
DTSTART;TZID=America/Detroit:20260514T183000
DTEND;TZID=America/Detroit:20260514T190000
DTSTAMP:20260424T100014
CREATED:20250610T155837Z
LAST-MODIFIED:20260128T181817Z
UID:10003786-1778783400-1778785200@portagefaith.com
SUMMARY:Finance Meeting
DESCRIPTION:The Portage Faith Church Finance Committee will meet in Goodell Hall at 6:30 pm.  The meeting is open to anyone interested.
URL:https://portagefaith.com/events/finance-meeting-3/2026-05-14/
LOCATION:Portage Faith United Methodist Church\, 9922 State Route 44\, Mantua\, OH\, 44255\, United States
CATEGORIES:Committees
ATTACH;FMTTYPE=image/jpeg:https://portagefaith.com/wp-content/uploads/2023/11/UMC-Mtg-Church-Distance.jpg
END:VEVENT
BEGIN:VEVENT
DTSTART;TZID=America/Detroit:20260910T183000
DTEND;TZID=America/Detroit:20260910T190000
DTSTAMP:20260424T100014
CREATED:20250610T155837Z
LAST-MODIFIED:20260128T181817Z
UID:10003787-1789065000-1789066800@portagefaith.com
SUMMARY:Finance Meeting
DESCRIPTION:The Portage Faith Church Finance Committee will meet in Goodell Hall at 6:30 pm.  The meeting is open to anyone interested.
URL:https://portagefaith.com/events/finance-meeting-3/2026-09-10/
LOCATION:Portage Faith United Methodist Church\, 9922 State Route 44\, Mantua\, OH\, 44255\, United States
CATEGORIES:Committees
ATTACH;FMTTYPE=image/jpeg:https://portagefaith.com/wp-content/uploads/2023/11/UMC-Mtg-Church-Distance.jpg
END:VEVENT
BEGIN:VEVENT
DTSTART;TZID=America/Detroit:20261112T183000
DTEND;TZID=America/Detroit:20261112T190000
DTSTAMP:20260424T100014
CREATED:20250610T155837Z
LAST-MODIFIED:20260128T181817Z
UID:10003788-1794508200-1794510000@portagefaith.com
SUMMARY:Finance Meeting
DESCRIPTION:The Portage Faith Church Finance Committee will meet in Goodell Hall at 6:30 pm.  The meeting is open to anyone interested.
URL:https://portagefaith.com/events/finance-meeting-3/2026-11-12/
LOCATION:Portage Faith United Methodist Church\, 9922 State Route 44\, Mantua\, OH\, 44255\, United States
CATEGORIES:Committees
ATTACH;FMTTYPE=image/jpeg:https://portagefaith.com/wp-content/uploads/2023/11/UMC-Mtg-Church-Distance.jpg
END:VEVENT
END:VCALENDAR